BEGIN:VCALENDAR
VERSION:2.0
PRODID:-//Literaturmuseum Theodor Storm - ECPv6.15.20//NONSGML v1.0//EN
CALSCALE:GREGORIAN
METHOD:PUBLISH
X-WR-CALNAME:Literaturmuseum Theodor Storm
X-ORIGINAL-URL:https://stormmuseum.de
X-WR-CALDESC:Veranstaltungen für Literaturmuseum Theodor Storm
REFRESH-INTERVAL;VALUE=DURATION:PT1H
X-Robots-Tag:noindex
X-PUBLISHED-TTL:PT1H
BEGIN:VTIMEZONE
TZID:Europe/Berlin
BEGIN:DAYLIGHT
TZOFFSETFROM:+0100
TZOFFSETTO:+0200
TZNAME:CEST
DTSTART:20090329T010000
END:DAYLIGHT
BEGIN:STANDARD
TZOFFSETFROM:+0200
TZOFFSETTO:+0100
TZNAME:CET
DTSTART:20091025T010000
END:STANDARD
BEGIN:DAYLIGHT
TZOFFSETFROM:+0100
TZOFFSETTO:+0200
TZNAME:CEST
DTSTART:20100328T010000
END:DAYLIGHT
BEGIN:STANDARD
TZOFFSETFROM:+0200
TZOFFSETTO:+0100
TZNAME:CET
DTSTART:20101031T010000
END:STANDARD
BEGIN:DAYLIGHT
TZOFFSETFROM:+0100
TZOFFSETTO:+0200
TZNAME:CEST
DTSTART:20110327T010000
END:DAYLIGHT
BEGIN:STANDARD
TZOFFSETFROM:+0200
TZOFFSETTO:+0100
TZNAME:CET
DTSTART:20111030T010000
END:STANDARD
END:VTIMEZONE
BEGIN:VEVENT
DTSTART;TZID=Europe/Berlin:20100214T110000
DTEND;TZID=Europe/Berlin:20100214T110000
DTSTAMP:20260424T072813
CREATED:20200609T200250Z
LAST-MODIFIED:20200609T205221Z
UID:2122-1266145200-1266145200@stormmuseum.de
SUMMARY:Ausstellungseröffnung: Werner Löwe
DESCRIPTION:Werner Löwe (Heiligenstadt)\n“Der Garten Eden”\n(bis 5. April) \nOnlinegalerie Künstler Werner Löwe
URL:https://stormmuseum.de/termin/ausstellungseroeffnung-werner-loewe/
LOCATION:Literaturmuseum „Theodor Storm“\, Am Berge 2\, Heilbad Heiligenstadt\, Thüringen\, 37308\, Deutschland
CATEGORIES:Ausstellungseröffnung,Jahr 2010
END:VEVENT
END:VCALENDAR