BEGIN:VCALENDAR
VERSION:2.0
PRODID:-//Literaturmuseum Theodor Storm - ECPv6.15.20//NONSGML v1.0//EN
CALSCALE:GREGORIAN
METHOD:PUBLISH
X-WR-CALNAME:Literaturmuseum Theodor Storm
X-ORIGINAL-URL:https://stormmuseum.de
X-WR-CALDESC:Veranstaltungen für Literaturmuseum Theodor Storm
REFRESH-INTERVAL;VALUE=DURATION:PT1H
X-Robots-Tag:noindex
X-PUBLISHED-TTL:PT1H
BEGIN:VTIMEZONE
TZID:Europe/Berlin
BEGIN:DAYLIGHT
TZOFFSETFROM:+0100
TZOFFSETTO:+0200
TZNAME:CEST
DTSTART:20210328T010000
END:DAYLIGHT
BEGIN:STANDARD
TZOFFSETFROM:+0200
TZOFFSETTO:+0100
TZNAME:CET
DTSTART:20211031T010000
END:STANDARD
BEGIN:DAYLIGHT
TZOFFSETFROM:+0100
TZOFFSETTO:+0200
TZNAME:CEST
DTSTART:20220327T010000
END:DAYLIGHT
BEGIN:STANDARD
TZOFFSETFROM:+0200
TZOFFSETTO:+0100
TZNAME:CET
DTSTART:20221030T010000
END:STANDARD
BEGIN:DAYLIGHT
TZOFFSETFROM:+0100
TZOFFSETTO:+0200
TZNAME:CEST
DTSTART:20230326T010000
END:DAYLIGHT
BEGIN:STANDARD
TZOFFSETFROM:+0200
TZOFFSETTO:+0100
TZNAME:CET
DTSTART:20231029T010000
END:STANDARD
END:VTIMEZONE
BEGIN:VEVENT
DTSTART;TZID=Europe/Berlin:20220611T150000
DTEND;TZID=Europe/Berlin:20220611T170000
DTSTAMP:20260419T195321
CREATED:20220405T084259Z
LAST-MODIFIED:20220609T190357Z
UID:9906-1654959600-1654966800@stormmuseum.de
SUMMARY:Rosenfest: Storms Gärten
DESCRIPTION:Der Stormverein lädt wieder zum Rosenfest! \nDr. Regina Fasold hält einen Vortrag zu „Storms Gärten“ \nTheodor Storm hat viele Gärten gekannt\, mehrere selbst besessen\, sorgfältig angelegt und mit Blumen bepflanzt. Die literarische musikalische Wanderung durch seine Gartenwelt in Briefen und Dichtung führt zu einem Ort des familiären Sommerlebens und in einen Raum der Poesie. \n  \nMusikalische Begleitung durch Cathleen Köchy\, Vasile Boar und Miriam Heiner.
URL:https://stormmuseum.de/termin/rosenfest-storms-gaerten/
CATEGORIES:Jahr 2022,Lesung,Rosenfest
ATTACH;FMTTYPE=image/jpeg:https://stormmuseum.de/wp-content/uploads/fotos/Rosen-im-Juni-2019-mit-Kirche-scaled.jpg
END:VEVENT
END:VCALENDAR