BEGIN:VCALENDAR
VERSION:2.0
PRODID:-//Literaturmuseum Theodor Storm - ECPv6.15.20//NONSGML v1.0//EN
CALSCALE:GREGORIAN
METHOD:PUBLISH
X-WR-CALNAME:Literaturmuseum Theodor Storm
X-ORIGINAL-URL:https://stormmuseum.de
X-WR-CALDESC:Veranstaltungen für Literaturmuseum Theodor Storm
REFRESH-INTERVAL;VALUE=DURATION:PT1H
X-Robots-Tag:noindex
X-PUBLISHED-TTL:PT1H
BEGIN:VTIMEZONE
TZID:Europe/Berlin
BEGIN:DAYLIGHT
TZOFFSETFROM:+0100
TZOFFSETTO:+0200
TZNAME:CEST
DTSTART:20220327T010000
END:DAYLIGHT
BEGIN:STANDARD
TZOFFSETFROM:+0200
TZOFFSETTO:+0100
TZNAME:CET
DTSTART:20221030T010000
END:STANDARD
BEGIN:DAYLIGHT
TZOFFSETFROM:+0100
TZOFFSETTO:+0200
TZNAME:CEST
DTSTART:20230326T010000
END:DAYLIGHT
BEGIN:STANDARD
TZOFFSETFROM:+0200
TZOFFSETTO:+0100
TZNAME:CET
DTSTART:20231029T010000
END:STANDARD
BEGIN:DAYLIGHT
TZOFFSETFROM:+0100
TZOFFSETTO:+0200
TZNAME:CEST
DTSTART:20240331T010000
END:DAYLIGHT
BEGIN:STANDARD
TZOFFSETFROM:+0200
TZOFFSETTO:+0100
TZNAME:CET
DTSTART:20241027T010000
END:STANDARD
END:VTIMEZONE
BEGIN:VEVENT
DTSTART;TZID=Europe/Berlin:20230618T150000
DTEND;TZID=Europe/Berlin:20230618T163000
DTSTAMP:20260422T145316
CREATED:20230524T055917Z
LAST-MODIFIED:20230606T092007Z
UID:17026-1687100400-1687105800@stormmuseum.de
SUMMARY:Rosenfest: Eröffnung Puppentheater zur Regentrude
DESCRIPTION:Zum Rosenfest wird das Mechanische Puppentheater zur Regentrude von Martin Gobsch aus Erfurt feierlich eingeweiht. \nMusikalische Begleitung von Bastian Jünemann am Piano. \nDer Künstler ist anwesend und gibt Einblicke in seine Arbeit. \nDas Puppentheater wird gefördert durch LEADER-Mittel\, kofinanziert von der Europäischen Union\, Regionale Aktionsgruppe Eichsfeld \nUmsetzung Regionale Entwicklungsstrategie 2014-2020.
URL:https://stormmuseum.de/termin/rosenfest-eroeffnung-puppentheater-zur-regentrude/
CATEGORIES:Jahr 2023,Rosenfest,Theater
ATTACH;FMTTYPE=image/jpeg:https://stormmuseum.de/wp-content/uploads/veranstaltungen/Leader_07_13_cmyk.jpg
END:VEVENT
END:VCALENDAR