BEGIN:VCALENDAR
VERSION:2.0
PRODID:-//Literaturmuseum Theodor Storm - ECPv6.15.20//NONSGML v1.0//EN
CALSCALE:GREGORIAN
METHOD:PUBLISH
X-WR-CALNAME:Literaturmuseum Theodor Storm
X-ORIGINAL-URL:https://stormmuseum.de
X-WR-CALDESC:Veranstaltungen für Literaturmuseum Theodor Storm
REFRESH-INTERVAL;VALUE=DURATION:PT1H
X-Robots-Tag:noindex
X-PUBLISHED-TTL:PT1H
BEGIN:VTIMEZONE
TZID:Europe/Berlin
BEGIN:DAYLIGHT
TZOFFSETFROM:+0100
TZOFFSETTO:+0200
TZNAME:CEST
DTSTART:20210328T010000
END:DAYLIGHT
BEGIN:STANDARD
TZOFFSETFROM:+0200
TZOFFSETTO:+0100
TZNAME:CET
DTSTART:20211031T010000
END:STANDARD
BEGIN:DAYLIGHT
TZOFFSETFROM:+0100
TZOFFSETTO:+0200
TZNAME:CEST
DTSTART:20220327T010000
END:DAYLIGHT
BEGIN:STANDARD
TZOFFSETFROM:+0200
TZOFFSETTO:+0100
TZNAME:CET
DTSTART:20221030T010000
END:STANDARD
BEGIN:DAYLIGHT
TZOFFSETFROM:+0100
TZOFFSETTO:+0200
TZNAME:CEST
DTSTART:20230326T010000
END:DAYLIGHT
BEGIN:STANDARD
TZOFFSETFROM:+0200
TZOFFSETTO:+0100
TZNAME:CET
DTSTART:20231029T010000
END:STANDARD
END:VTIMEZONE
BEGIN:VEVENT
DTSTART;TZID=Europe/Berlin:20220911T143000
DTEND;TZID=Europe/Berlin:20220911T143000
DTSTAMP:20260421T145637
CREATED:20220714T130203Z
LAST-MODIFIED:20220714T130203Z
UID:11889-1662906600-1662906600@stormmuseum.de
SUMMARY:Tag des offenen Denkmals 2022
DESCRIPTION:Freier Eintritt ins Museum zum Tag des offenen Denkmals! Für alle Interessierten gibt es eine Führung um 15 Uhr. \nDer Storm-Verein verwöhnt seine Gäste im Rosengarten mit Kaffee und selbstgebackenem Kuchen. Es können wieder die beliebten Chroniken des Vereins bis zurück in das Jahr 1992 eingesehen werden.
URL:https://stormmuseum.de/termin/tag-des-offenen-denkmals-2022/
LOCATION:Literaturmuseum „Theodor Storm“\, Am Berge 2\, Heilbad Heiligenstadt\, Thüringen\, 37308\, Deutschland
CATEGORIES:Führung,Jahr 2022,Tag des offenen Denkmals
ATTACH;FMTTYPE=image/jpeg:https://stormmuseum.de/wp-content/uploads/veranstaltungen/Tag-des-offenen-Denkmals.jpg
END:VEVENT
END:VCALENDAR