BEGIN:VCALENDAR
VERSION:2.0
PRODID:-//Literaturmuseum Theodor Storm - ECPv6.15.20//NONSGML v1.0//EN
CALSCALE:GREGORIAN
METHOD:PUBLISH
X-WR-CALNAME:Literaturmuseum Theodor Storm
X-ORIGINAL-URL:https://stormmuseum.de
X-WR-CALDESC:Veranstaltungen für Literaturmuseum Theodor Storm
REFRESH-INTERVAL;VALUE=DURATION:PT1H
X-Robots-Tag:noindex
X-PUBLISHED-TTL:PT1H
BEGIN:VTIMEZONE
TZID:Europe/Berlin
BEGIN:DAYLIGHT
TZOFFSETFROM:+0100
TZOFFSETTO:+0200
TZNAME:CEST
DTSTART:20250330T010000
END:DAYLIGHT
BEGIN:STANDARD
TZOFFSETFROM:+0200
TZOFFSETTO:+0100
TZNAME:CET
DTSTART:20251026T010000
END:STANDARD
BEGIN:DAYLIGHT
TZOFFSETFROM:+0100
TZOFFSETTO:+0200
TZNAME:CEST
DTSTART:20260329T010000
END:DAYLIGHT
BEGIN:STANDARD
TZOFFSETFROM:+0200
TZOFFSETTO:+0100
TZNAME:CET
DTSTART:20261025T010000
END:STANDARD
BEGIN:DAYLIGHT
TZOFFSETFROM:+0100
TZOFFSETTO:+0200
TZNAME:CEST
DTSTART:20270328T010000
END:DAYLIGHT
BEGIN:STANDARD
TZOFFSETFROM:+0200
TZOFFSETTO:+0100
TZNAME:CET
DTSTART:20271031T010000
END:STANDARD
END:VTIMEZONE
BEGIN:VEVENT
DTSTART;TZID=Europe/Berlin:20260705T103000
DTEND;TZID=Europe/Berlin:20260705T130000
DTSTAMP:20260420T162603
CREATED:20260416T143931Z
LAST-MODIFIED:20260417T065834Z
UID:39122-1783247400-1783256400@stormmuseum.de
SUMMARY:Stormtage 2026: Stadtspaziergang durch Heiligenstadt "Auf Otto Storms Spuren"
DESCRIPTION:Am Sonntagmorgen um 11:00 Uhr bieten Daniela Scheele\, Henriette Roth und Judith Windel eine Exkursion mit verschiedenen Stationen zu Otto Storms Leben in Heiligenstadt an. Treffpunkt ist der Rosengarten am Literaturmuseum „Theodor Storm“. \nNach Rückkehr vom Stadtspaziergang gibt es für alle Interessierten das Angebot\, gemeinsam einen Imbiss im Literaturmuseum einzunehmen. \n  \nSowohl um eine Anmeldung für den Imbiss als auch für die Exkursion wird unter kontakt@stormmuseum.de ausdrücklich gebeten. \n 
URL:https://stormmuseum.de/termin/stormtage-2026-stadtspaziergang-durch-heiligenstadt-auf-otto-storms-spuren/
LOCATION:Literaturmuseum „Theodor Storm“\, Am Berge 2\, Heilbad Heiligenstadt\, Thüringen\, 37308\, Deutschland
CATEGORIES:Ausflug,Führung,Jahr 2026,Storm-Tage
ATTACH;FMTTYPE=image/jpeg:https://stormmuseum.de/wp-content/uploads/Unorganisiert/Otto-und-Kasimir-sta-Kopie.jpg
END:VEVENT
END:VCALENDAR