BEGIN:VCALENDAR
VERSION:2.0
PRODID:-//Literaturmuseum Theodor Storm - ECPv6.15.20//NONSGML v1.0//EN
CALSCALE:GREGORIAN
METHOD:PUBLISH
X-WR-CALNAME:Literaturmuseum Theodor Storm
X-ORIGINAL-URL:https://stormmuseum.de
X-WR-CALDESC:Veranstaltungen für Literaturmuseum Theodor Storm
REFRESH-INTERVAL;VALUE=DURATION:PT1H
X-Robots-Tag:noindex
X-PUBLISHED-TTL:PT1H
BEGIN:VTIMEZONE
TZID:Europe/Berlin
BEGIN:DAYLIGHT
TZOFFSETFROM:+0100
TZOFFSETTO:+0200
TZNAME:CEST
DTSTART:20210328T010000
END:DAYLIGHT
BEGIN:STANDARD
TZOFFSETFROM:+0200
TZOFFSETTO:+0100
TZNAME:CET
DTSTART:20211031T010000
END:STANDARD
BEGIN:DAYLIGHT
TZOFFSETFROM:+0100
TZOFFSETTO:+0200
TZNAME:CEST
DTSTART:20220327T010000
END:DAYLIGHT
BEGIN:STANDARD
TZOFFSETFROM:+0200
TZOFFSETTO:+0100
TZNAME:CET
DTSTART:20221030T010000
END:STANDARD
BEGIN:DAYLIGHT
TZOFFSETFROM:+0100
TZOFFSETTO:+0200
TZNAME:CEST
DTSTART:20230326T010000
END:DAYLIGHT
BEGIN:STANDARD
TZOFFSETFROM:+0200
TZOFFSETTO:+0100
TZNAME:CET
DTSTART:20231029T010000
END:STANDARD
END:VTIMEZONE
BEGIN:VEVENT
DTSTART;TZID=Europe/Berlin:20220901T193000
DTEND;TZID=Europe/Berlin:20220901T210000
DTSTAMP:20260421T195132
CREATED:20220714T130705Z
LAST-MODIFIED:20220714T130956Z
UID:11895-1662060600-1662066000@stormmuseum.de
SUMMARY:Ausstellungseröffnung „Die Briefmarken kommen!“
DESCRIPTION:„Die Briefmarken kommen!“ \nDie Geschichte des Eichsfelds im Kleinformat. \nMit einer Auswahl an Briefmarken zu Theodor Storm \n(Sammlung Wolfgang Gran) \n  \nSonderausstellung im Eichsfeldmuseum \nin Kooperation mit dem Literaturmuseum „Theodor Storm“ \nDauer der Ausstellung: 01.09.-06.11.22 \n  \nWir laden Sie herzlich zur Vernissage ins Eichsfeldmuseum am Donnerstag\, den 1. September\, um 19:30 Uhr. \n  \nBegrüßung: \nUte Althaus \nDr. Gideon Haut \nEinführungsvortrag: \nWolfgang Gran \n  \nMusikalische Begleitung: \nEichsfelder Musikschule
URL:https://stormmuseum.de/termin/ausstellungseroeffnung-die-briefmarken-kommen/
CATEGORIES:Ausstellungseröffnung,Jahr 2022
ATTACH;FMTTYPE=image/jpeg:https://stormmuseum.de/wp-content/uploads/Ausstellungen/Briefmarken-Ausstellung-A3-1.jpg
END:VEVENT
END:VCALENDAR