BEGIN:VCALENDAR
VERSION:2.0
PRODID:-//Literaturmuseum Theodor Storm - ECPv6.15.20//NONSGML v1.0//EN
CALSCALE:GREGORIAN
METHOD:PUBLISH
X-WR-CALNAME:Literaturmuseum Theodor Storm
X-ORIGINAL-URL:https://stormmuseum.de
X-WR-CALDESC:Veranstaltungen für Literaturmuseum Theodor Storm
REFRESH-INTERVAL;VALUE=DURATION:PT1H
X-Robots-Tag:noindex
X-PUBLISHED-TTL:PT1H
BEGIN:VTIMEZONE
TZID:Europe/Berlin
BEGIN:DAYLIGHT
TZOFFSETFROM:+0100
TZOFFSETTO:+0200
TZNAME:CEST
DTSTART:20120325T010000
END:DAYLIGHT
BEGIN:STANDARD
TZOFFSETFROM:+0200
TZOFFSETTO:+0100
TZNAME:CET
DTSTART:20121028T010000
END:STANDARD
BEGIN:DAYLIGHT
TZOFFSETFROM:+0100
TZOFFSETTO:+0200
TZNAME:CEST
DTSTART:20130331T010000
END:DAYLIGHT
BEGIN:STANDARD
TZOFFSETFROM:+0200
TZOFFSETTO:+0100
TZNAME:CET
DTSTART:20131027T010000
END:STANDARD
BEGIN:DAYLIGHT
TZOFFSETFROM:+0100
TZOFFSETTO:+0200
TZNAME:CEST
DTSTART:20140330T010000
END:DAYLIGHT
BEGIN:STANDARD
TZOFFSETFROM:+0200
TZOFFSETTO:+0100
TZNAME:CET
DTSTART:20141026T010000
END:STANDARD
END:VTIMEZONE
BEGIN:VEVENT
DTSTART;TZID=Europe/Berlin:20131106T193000
DTEND;TZID=Europe/Berlin:20131106T193000
DTSTAMP:20260421T102612
CREATED:20200620T124618Z
LAST-MODIFIED:20200629T114209Z
UID:2932-1383766200-1383766200@stormmuseum.de
SUMMARY:Ausstellungseröffnung
DESCRIPTION:„Es weihnachtet sehr …“\nWeihnachtsbücher und Adventskalender illustriert von Maren Briswalter \nMaren Briswalter\, die im Frühjahr ihre mehrfach ausgezeichneten Kinderbuchillustrationen (unter anderem zu „Pole Poppenspäler“) im Literaturmuseum gezeigt hat\, stellt sich nun noch einmal in Heiligenstadt mit liebevoll gestalteten Adventskalendern\, Weihnachtsbilderbüchern und mit Einzelblättern zu Weihnachtsgedichten der Weltliteratur vor. Die Adventskalender tragen so poetische Namen wie „Die Weihnachtskarawane“\,\n„Zu Bethlehem geboren“ oder „Am Weihnachtsabend“. Auch zu dem bekannten Weihnachtskinderbuch „Holly und Ivy“ von Margret Rumer Godden hat Maren Briswalter ein Kalendermotiv gestaltet. Gezeigt werden im Literaturmuseum Originalvorlagen zu diesen Kalendern\, zu den Weihnachtsbüchern „Holly und Ivy“\, „Schneehäschens Stern“\, „Schneehäschens Weihnachtsüberraschung“\, E. T. A. Hoffmanns „Nussknacker und Mausekönig“ sowie Einzelblätter u.a. zu Joseph von Eichendorffs „Weihnachten“\,\nHoffmann von Fallerslebens „Der Traum“ und Theodor Storms „Knecht Ruprecht“. \nViele schöne\, künstlerisch gelungene Adventskalender und Weihnachtsbücher von Maren Briswalter können im Literaturmuseum käuflich erworben werden.\nAusstellungsdauer: bis 19. 01. 2014
URL:https://stormmuseum.de/termin/ausstellungseroeffnung-17/
LOCATION:Literaturmuseum „Theodor Storm“\, Am Berge 2\, Heilbad Heiligenstadt\, Thüringen\, 37308\, Deutschland
CATEGORIES:Ausstellungseröffnung,Jahr 2013
END:VEVENT
BEGIN:VEVENT
DTSTART;TZID=Europe/Berlin:20131113T193000
DTEND;TZID=Europe/Berlin:20131113T193000
DTSTAMP:20260421T102612
CREATED:20200620T124839Z
LAST-MODIFIED:20200620T124839Z
UID:2937-1384371000-1384371000@stormmuseum.de
SUMMARY:Vortrag
DESCRIPTION:Dr. Dörte Nicolaisen\, Husum: \n„…es ist\, als wenn sie uns nicht lassen könnten…“* Theodor Storm und die Husumer Landratsfamilie Reventlow. (*Theodor Storm an Ernst Storm\, 4. Januar 1879) \nDr. Dörte Nicolaisen war Mitherausgeberin des großen und mittlerweile vergriffenen Katalogs zur Ausstellung: „Alles möchte ich immer“. Franziska Gräfin zu Reventlow (1871- 1918). Ihr Beitrag betrifft vor allem die Husumer Jahre Franziska zu Reventlows\, der Tochter des Landrates und Storm-Freundes Ludwig Graf zu Reventlow (1824 – 1893). Bei ihren Recherchen stieß sie auf bisher unbekannte Quellen\, die ein neues Licht auf die Beziehung der eng befreundeten Husumer Familien werfen.
URL:https://stormmuseum.de/termin/vortrag-15/
LOCATION:Literaturmuseum „Theodor Storm“\, Am Berge 2\, Heilbad Heiligenstadt\, Thüringen\, 37308\, Deutschland
CATEGORIES:Jahr 2013,Vortrag
END:VEVENT
BEGIN:VEVENT
DTSTART;TZID=Europe/Berlin:20131127T193000
DTEND;TZID=Europe/Berlin:20131127T193000
DTSTAMP:20260421T102612
CREATED:20200620T125212Z
LAST-MODIFIED:20200620T125212Z
UID:2940-1385580600-1385580600@stormmuseum.de
SUMMARY:Buchvorstellung und Diskussion
DESCRIPTION:Jochen Missfeldt liest aus seiner 2013 im Hanser Verlag München erschienenen Storm-Biographie: „Du graue Stadt am Meer“. Der Dichter Theodor Storm in seinem Jahrhundert.\nIm Anschluss Gespräch und Diskussionsrunde mit Dr. Regina Fasold. \nDer in Schleswig-Holstein lebende\, renommierte Autor Jochen Missfeldt zeichnet auf fast 500 Seiten die Physiognomie des bedeutenden deutschen Lyrikers und Erzählers nach\, erhellt dabei wichtige Bezüge zwischen Leben und Werk und schreibt vor allem zum ersten Mal eine umfassende Geschichte der Familie Theodor Storms\, in der sich auf ganz spezielle Weise das Zeitalter mit seinen politischen\, kulturellen und sozialen Verhältnissen spiegelt. \nJochen Missfeldt: „Storms Sprache hat mich gepackt und nicht losgelassen\, als Charakter hat er mich verstört und vor den Kopf gestoßen. Sein einziges Vorbild: er selber. Seine Leitmotive: erhoffte und gescheiterte Liebe und das Ringen um ein gelungenes Leben. Mit seiner Lyrik ist er ein Meistersänger seines Jahrhunderts\, mit seiner Erzählkunst ein Wegbereiter der Moderne.“\nBüchertisch: Buchhandlung Albert Multhauf GmbH
URL:https://stormmuseum.de/termin/buchvorstellung-und-diskussion/
LOCATION:Literaturmuseum „Theodor Storm“\, Am Berge 2\, Heilbad Heiligenstadt\, Thüringen\, 37308\, Deutschland
CATEGORIES:Buchvorstellung,Jahr 2013
END:VEVENT
END:VCALENDAR