BEGIN:VCALENDAR
VERSION:2.0
PRODID:-//Literaturmuseum Theodor Storm - ECPv6.15.20//NONSGML v1.0//EN
CALSCALE:GREGORIAN
METHOD:PUBLISH
X-WR-CALNAME:Literaturmuseum Theodor Storm
X-ORIGINAL-URL:https://stormmuseum.de
X-WR-CALDESC:Veranstaltungen für Literaturmuseum Theodor Storm
REFRESH-INTERVAL;VALUE=DURATION:PT1H
X-Robots-Tag:noindex
X-PUBLISHED-TTL:PT1H
BEGIN:VTIMEZONE
TZID:Europe/Berlin
BEGIN:DAYLIGHT
TZOFFSETFROM:+0100
TZOFFSETTO:+0200
TZNAME:CEST
DTSTART:20120325T010000
END:DAYLIGHT
BEGIN:STANDARD
TZOFFSETFROM:+0200
TZOFFSETTO:+0100
TZNAME:CET
DTSTART:20121028T010000
END:STANDARD
BEGIN:DAYLIGHT
TZOFFSETFROM:+0100
TZOFFSETTO:+0200
TZNAME:CEST
DTSTART:20130331T010000
END:DAYLIGHT
BEGIN:STANDARD
TZOFFSETFROM:+0200
TZOFFSETTO:+0100
TZNAME:CET
DTSTART:20131027T010000
END:STANDARD
BEGIN:DAYLIGHT
TZOFFSETFROM:+0100
TZOFFSETTO:+0200
TZNAME:CEST
DTSTART:20140330T010000
END:DAYLIGHT
BEGIN:STANDARD
TZOFFSETFROM:+0200
TZOFFSETTO:+0100
TZNAME:CET
DTSTART:20141026T010000
END:STANDARD
END:VTIMEZONE
BEGIN:VEVENT
DTSTART;TZID=Europe/Berlin:20131015T160000
DTEND;TZID=Europe/Berlin:20131015T160000
DTSTAMP:20260421T120337
CREATED:20200620T123222Z
LAST-MODIFIED:20200620T123222Z
UID:2925-1381852800-1381852800@stormmuseum.de
SUMMARY:Zum Tee bei Theodor Storm
DESCRIPTION:Dr. Regina Fasold liest aus Theodor Storms Novelle „Carsten Curator“ (1878)\, eine der großen Altersnovellen des Dichters\, in deren Zentrum ein bis heute aktuell gebliebener\nVater-Sohn-Konflikt steht.
URL:https://stormmuseum.de/termin/zum-tee-bei-theodor-storm-12/
LOCATION:Literaturmuseum „Theodor Storm“\, Am Berge 2\, Heilbad Heiligenstadt\, Thüringen\, 37308\, Deutschland
CATEGORIES:Jahr 2013,Lesung,Zum Tee bei Theodor Storm
END:VEVENT
BEGIN:VEVENT
DTSTART;TZID=Europe/Berlin:20131025T193000
DTEND;TZID=Europe/Berlin:20131025T193000
DTSTAMP:20260421T120337
CREATED:20200620T124121Z
LAST-MODIFIED:20200620T124121Z
UID:2928-1382729400-1382729400@stormmuseum.de
SUMMARY:Thekla Carola Wied
DESCRIPTION:„Siehst du\, wie schön ich dir schreibe“. Briefe berühmter Eltern an ihre Kinder. \nEine literarisch-musikalische Zeitreise durch 5 Jahrhunderte\nmit Musik von Manuel Munzlinger & Oboe in Jazz \nDie beliebte Schauspielerin Thekla Carola Wied liest Briefe berühmter Persönlichkeiten an ihre Kinder aus fünf Jahrhunderten. Die von ihr ausgewählten Briefe von Martin Luther\, Liselotte von der Pfalz\, Johann Wolfgang von Goethe\, Johanna Schopenhauer\, Theodor Fontane\, Jurek Becker und vielen anderen – nicht zuletzt Theodor Storm – ermöglichen rührende Einblicke in das Familienleben und sind Zeitzeugnisse vergangener Epochen. Mit viel Einfühlungsvermögen und Sinn für Humor und Ironie hat sie das Lebensgefühl der Absender wiedererweckt und vom Staub der Geschichte befreit. Die Briefe sind Spiegel des Zeitgeistes\, der religiösen Überzeugungen\, der gesellschaftlichen Milieus und der jeweiligen Erziehungsmaximen. Oft sind in diesen Schreiben versteckte Ermahnungen und Belehrungen an die Kinder zu finden. Mit einem Augenzwinkern gibt Thekla Carola Wied Einsichten in die Kindererziehung aus den „guten alten Zeiten“\, als Kinder noch die Ideale ihrer Eltern verwirklichen sollten.\nDie passende Musik zum Programm wurde vom Oboisten und Komponisten Manuel Munzlinger ausgesucht und arrangiert. Munzlinger suchte zu jedem Autor ein Musikstück aus\, das die Zeiten in ihren Klängen nachzeichnet – zum größten Teil ist das Geburtsjahr der Verfasser des Briefes und der Musik identisch. Um den augenzwinkernden Vortrag von Thekla Carola Wied zu unterstützen und die feinsinnige Ironie des Blickes auf die damalige Zeit zu verstärken\, hat er jedes Werk mit einem raffinierten Swing versehen. Unmerklich werden die barocken und romantischen Melodien mit jazzigen Akkorden und Rhythmen versehen\, die dem Abend dadurch zusätzlich eine Prise Humor verleihen.\nEintritt: 28\, – € \nMitglieder des Storm-Vereins: 23\, – € \nAbo-Preis: 23\, – € \nVorverkauf: Literaturmuseum „Theodor Storm“ und Eichsfelder Kulturhaus \nEine Gemeinschaftsveranstaltung von Literaturmuseum „Theodor Storm“\, Theodor-Storm-Verein Heilbad Heiligenstadt und Eichsfelder Kulturbetriebe \nFoyer des Eichsfelder Kulturhauses
URL:https://stormmuseum.de/termin/thekla-carola-wied/
LOCATION:Literaturmuseum „Theodor Storm“\, Am Berge 2\, Heilbad Heiligenstadt\, Thüringen\, 37308\, Deutschland
CATEGORIES:Jahr 2013,Konzert,Lesung
ATTACH;FMTTYPE=image/jpeg:https://stormmuseum.de/wp-content/uploads/2020/06/Thekl__Carola_Wied_Manuel_Munzlinger_Plakat_2.jpg
END:VEVENT
END:VCALENDAR