BEGIN:VCALENDAR
VERSION:2.0
PRODID:-//Literaturmuseum Theodor Storm - ECPv6.15.20//NONSGML v1.0//EN
CALSCALE:GREGORIAN
METHOD:PUBLISH
X-WR-CALNAME:Literaturmuseum Theodor Storm
X-ORIGINAL-URL:https://stormmuseum.de
X-WR-CALDESC:Veranstaltungen für Literaturmuseum Theodor Storm
REFRESH-INTERVAL;VALUE=DURATION:PT1H
X-Robots-Tag:noindex
X-PUBLISHED-TTL:PT1H
BEGIN:VTIMEZONE
TZID:Europe/Berlin
BEGIN:DAYLIGHT
TZOFFSETFROM:+0100
TZOFFSETTO:+0200
TZNAME:CEST
DTSTART:20120325T010000
END:DAYLIGHT
BEGIN:STANDARD
TZOFFSETFROM:+0200
TZOFFSETTO:+0100
TZNAME:CET
DTSTART:20121028T010000
END:STANDARD
BEGIN:DAYLIGHT
TZOFFSETFROM:+0100
TZOFFSETTO:+0200
TZNAME:CEST
DTSTART:20130331T010000
END:DAYLIGHT
BEGIN:STANDARD
TZOFFSETFROM:+0200
TZOFFSETTO:+0100
TZNAME:CET
DTSTART:20131027T010000
END:STANDARD
BEGIN:DAYLIGHT
TZOFFSETFROM:+0100
TZOFFSETTO:+0200
TZNAME:CEST
DTSTART:20140330T010000
END:DAYLIGHT
BEGIN:STANDARD
TZOFFSETFROM:+0200
TZOFFSETTO:+0100
TZNAME:CET
DTSTART:20141026T010000
END:STANDARD
END:VTIMEZONE
BEGIN:VEVENT
DTSTART;TZID=Europe/Berlin:20130908T143000
DTEND;TZID=Europe/Berlin:20130908T170000
DTSTAMP:20260421T133502
CREATED:20200620T122958Z
LAST-MODIFIED:20200620T122958Z
UID:2919-1378650600-1378659600@stormmuseum.de
SUMMARY:Tag des offenen Denkmals
DESCRIPTION:„Unbequeme Denkmäler“ \nIm Museumsgarten und im Veranstaltungskeller des Literaturmuseums bietet der Theodor-Storm-Verein Kaffee und selbstgebackenen Kuchen an.
URL:https://stormmuseum.de/termin/tag-des-offenen-denkmals-4/
LOCATION:Literaturmuseum „Theodor Storm“\, Am Berge 2\, Heilbad Heiligenstadt\, Thüringen\, 37308\, Deutschland
CATEGORIES:Jahr 2013,Tag des offenen Denkmals
END:VEVENT
BEGIN:VEVENT
DTSTART;TZID=Europe/Berlin:20130925T193000
DTEND;TZID=Europe/Berlin:20130925T193000
DTSTAMP:20260421T133502
CREATED:20200620T123113Z
LAST-MODIFIED:20200620T123113Z
UID:2922-1380137400-1380137400@stormmuseum.de
SUMMARY:Ausstellungseröffnung
DESCRIPTION:„Nach der Ankunft im Alltag – Brigitte Reimann (1933 – 1973)“ \nEinführung: Erika Becker\, Leiterin des Literaturzentrums Neubrandenburg \nIn diesem Jahr wäre die Schriftstellerin Brigitte Reimann 80 Jahre alt geworden\, ihr Todestag jährt sich zum 40. Mal. Die engagierte und begabte Autorin führte ein Leben mit allen Höhen und Tiefen. Sie hatte früh Erfolg\, spielte eine wichtige Rolle im Literaturbetrieb ihrer Zeit und pflegte Freundschaften mit Künstlerkolleginnen und -kollegen; sie war viermal verheiratet und starb\, erst neununddreißigjährig\, an Krebs. Die Wanderausstellung dokumentiert anhand zahlreicher Fotos und Textdokumente – größtenteils aus dem Nachlass der Schriftstellerin – die biografischen Stationen Brigitte Reimanns\, die Entstehung ihrer Werke und den kulturellen und zeitgeschichtlichen Hintergrund der 1950er und 60er Jahre in der DDR.\nIm Anschluss besteht die Möglichkeit\, im Veranstaltungskeller die Verfilmung des Romans „Franziska Linkerhand“ zu sehen: „Unser kurzes Leben“\, Spielfilm-DDR\, 1980\, Regie: Lothar Warneke.\nAusstellungsdauer: bis 27. 10. 2013.
URL:https://stormmuseum.de/termin/ausstellungseroeffnung-16/
LOCATION:Literaturmuseum „Theodor Storm“\, Am Berge 2\, Heilbad Heiligenstadt\, Thüringen\, 37308\, Deutschland
CATEGORIES:Ausstellungseröffnung,Jahr 2013
END:VEVENT
END:VCALENDAR