BEGIN:VCALENDAR
VERSION:2.0
PRODID:-//Literaturmuseum Theodor Storm - ECPv6.15.20//NONSGML v1.0//EN
CALSCALE:GREGORIAN
METHOD:PUBLISH
X-WR-CALNAME:Literaturmuseum Theodor Storm
X-ORIGINAL-URL:https://stormmuseum.de
X-WR-CALDESC:Veranstaltungen für Literaturmuseum Theodor Storm
REFRESH-INTERVAL;VALUE=DURATION:PT1H
X-Robots-Tag:noindex
X-PUBLISHED-TTL:PT1H
BEGIN:VTIMEZONE
TZID:Europe/Berlin
BEGIN:DAYLIGHT
TZOFFSETFROM:+0100
TZOFFSETTO:+0200
TZNAME:CEST
DTSTART:20120325T010000
END:DAYLIGHT
BEGIN:STANDARD
TZOFFSETFROM:+0200
TZOFFSETTO:+0100
TZNAME:CET
DTSTART:20121028T010000
END:STANDARD
BEGIN:DAYLIGHT
TZOFFSETFROM:+0100
TZOFFSETTO:+0200
TZNAME:CEST
DTSTART:20130331T010000
END:DAYLIGHT
BEGIN:STANDARD
TZOFFSETFROM:+0200
TZOFFSETTO:+0100
TZNAME:CET
DTSTART:20131027T010000
END:STANDARD
BEGIN:DAYLIGHT
TZOFFSETFROM:+0100
TZOFFSETTO:+0200
TZNAME:CEST
DTSTART:20140330T010000
END:DAYLIGHT
BEGIN:STANDARD
TZOFFSETFROM:+0200
TZOFFSETTO:+0100
TZNAME:CET
DTSTART:20141026T010000
END:STANDARD
END:VTIMEZONE
BEGIN:VEVENT
DTSTART;TZID=Europe/Berlin:20130608T140000
DTEND;TZID=Europe/Berlin:20130608T140000
DTSTAMP:20260421T180422
CREATED:20200620T120551Z
LAST-MODIFIED:20200620T120625Z
UID:2889-1370700000-1370700000@stormmuseum.de
SUMMARY:Rosenfest im Garten am Literaturmuseum
DESCRIPTION:14.00 Uhr\nVortrag\nCatrin Seidel (Weimar): Die Dornburger Schlossgärten \n15.30 Uhr\nDer Theodor Storm-Verein lädt im Rosengarten zu Kaffee und Kuchen ein. \n17.00 Uhr\nKonzert\nDas Duo „La Vigna“\, Theresa und Christian Stahl (Radebeul)\, spielen Barockmusik auf historischen Instrumenten – darunter die Theorbe\, die größte europäische Laute. \nUnter dem Motto „Paris und Venedig des 17. und 18. Jahrhunderts“ lassen Theresa und Christian Stahl den Klang zweier Orte lebendig werden. Sie kontrastieren die konservativ-anmutige Musik Frankreichs mit dem seinerzeit neuen dramatischen Stil Italiens. Ludwig XIV. holte die besten Musiker Frankreichs nach Paris\, um eine intime\, filigrane und wahrhaft französische Kammermusik zu pflegen; die karnevalsverwöhnten Venezianer dagegen pflegten eine ‚neue Musik’: experimentierfreudig\, ausdrucksstark und voller Affekte!
URL:https://stormmuseum.de/termin/rosenfest-im-garten-am-literaturmuseum-2/
LOCATION:Literaturmuseum „Theodor Storm“\, Am Berge 2\, Heilbad Heiligenstadt\, Thüringen\, 37308\, Deutschland
CATEGORIES:Jahr 2013,Konzert,Rosenfest,Vortrag
ATTACH;FMTTYPE=image/jpeg:https://stormmuseum.de/wp-content/uploads/2020/06/Bänke-im-Rosengarten-scaled-e1591816263684.jpg
END:VEVENT
END:VCALENDAR