BEGIN:VCALENDAR
VERSION:2.0
PRODID:-//Literaturmuseum Theodor Storm - ECPv6.15.20//NONSGML v1.0//EN
CALSCALE:GREGORIAN
METHOD:PUBLISH
X-WR-CALNAME:Literaturmuseum Theodor Storm
X-ORIGINAL-URL:https://stormmuseum.de
X-WR-CALDESC:Veranstaltungen für Literaturmuseum Theodor Storm
REFRESH-INTERVAL;VALUE=DURATION:PT1H
X-Robots-Tag:noindex
X-PUBLISHED-TTL:PT1H
BEGIN:VTIMEZONE
TZID:Europe/Berlin
BEGIN:DAYLIGHT
TZOFFSETFROM:+0100
TZOFFSETTO:+0200
TZNAME:CEST
DTSTART:20120325T010000
END:DAYLIGHT
BEGIN:STANDARD
TZOFFSETFROM:+0200
TZOFFSETTO:+0100
TZNAME:CET
DTSTART:20121028T010000
END:STANDARD
BEGIN:DAYLIGHT
TZOFFSETFROM:+0100
TZOFFSETTO:+0200
TZNAME:CEST
DTSTART:20130331T010000
END:DAYLIGHT
BEGIN:STANDARD
TZOFFSETFROM:+0200
TZOFFSETTO:+0100
TZNAME:CET
DTSTART:20131027T010000
END:STANDARD
BEGIN:DAYLIGHT
TZOFFSETFROM:+0100
TZOFFSETTO:+0200
TZNAME:CEST
DTSTART:20140330T010000
END:DAYLIGHT
BEGIN:STANDARD
TZOFFSETFROM:+0200
TZOFFSETTO:+0100
TZNAME:CET
DTSTART:20141026T010000
END:STANDARD
END:VTIMEZONE
BEGIN:VEVENT
DTSTART;TZID=Europe/Berlin:20130313T193000
DTEND;TZID=Europe/Berlin:20130313T193000
DTSTAMP:20260421T223902
CREATED:20200620T115620Z
LAST-MODIFIED:20200620T115724Z
UID:2871-1363203000-1363203000@stormmuseum.de
SUMMARY:Georg Büchner „Lenz“. Eine dramatische Interpretation.
DESCRIPTION:Anlässlich des 200. Geburtstages von Georg Büchner (1813 – 1837)\nGeorg Büchner „Lenz“. Eine dramatische Interpretation.\nEin Schauspiel-Solo von Chora Chilcott\, Berlin \nFür Georg Büchners 1839 postum erschienene Novelle „Lenz“ war der Bericht des Pfarrers Oberlin (1740 – 1826)\, in dem der Aufenthalt des Schriftstellers Jakob Michael Reinhold Lenz (1751 – 1792) in Waldersbach im vogesischen Steintal festgehalten ist\, die wesentliche Quelle; Lenz erschien dort Anfang 1778 mit allen Anzeichen einer psychotischen Erkrankung. Büchner benutzt die Oberlin-Quelle\, erzählt jedoch weitgehend aus der Perspektive und der Wahrnehmung des Protagonisten und entwirft ein umfassendes Psychogramm von Lenz mit zeitkritischen Dimensionen\, dessen Dichte\, Expressivität und Genauigkeit in der deutschen Literatur ohne Vorbild ist. \nEintritt: 5\, – €\nIm Vorverkauf und für Vereinsmitglieder: 4\, – €
URL:https://stormmuseum.de/termin/georg-buechner-lenz-eine-dramatische-interpretation/
LOCATION:Literaturmuseum „Theodor Storm“\, Am Berge 2\, Heilbad Heiligenstadt\, Thüringen\, 37308\, Deutschland
CATEGORIES:Jahr 2013,Theater,Vortrag
END:VEVENT
BEGIN:VEVENT
DTSTART;TZID=Europe/Berlin:20130321T143000
DTEND;TZID=Europe/Berlin:20130321T143000
DTSTAMP:20260421T223902
CREATED:20200620T115901Z
LAST-MODIFIED:20200620T115901Z
UID:2876-1363876200-1363876200@stormmuseum.de
SUMMARY:Lesenachmittag im Literaturmuseum
DESCRIPTION:Kinder im Alter von 8 bis 12 Jahren sind eingeladen\, im Literaturmuseum ihr Lieblingsbuch vorzustellen\, vorzulesen bzw. sich vorlesen zu lassen.
URL:https://stormmuseum.de/termin/lesenachmittag-im-literaturmuseum-3/
LOCATION:Literaturmuseum „Theodor Storm“\, Am Berge 2\, Heilbad Heiligenstadt\, Thüringen\, 37308\, Deutschland
CATEGORIES:Buchvorstellung,Jahr 2013,Kinder,Lesung
END:VEVENT
BEGIN:VEVENT
DTSTART;TZID=Europe/Berlin:20130326T160000
DTEND;TZID=Europe/Berlin:20130326T160000
DTSTAMP:20260421T223902
CREATED:20200620T120006Z
LAST-MODIFIED:20200620T120006Z
UID:2879-1364313600-1364313600@stormmuseum.de
SUMMARY:Zum Tee bei Theodor Storm
DESCRIPTION:Dr. Regina Fasold liest aus Theodor Storms Heiligenstädter Novelle „Im Schloß“
URL:https://stormmuseum.de/termin/zum-tee-bei-theodor-storm-11/
LOCATION:Literaturmuseum „Theodor Storm“\, Am Berge 2\, Heilbad Heiligenstadt\, Thüringen\, 37308\, Deutschland
CATEGORIES:Jahr 2013,Lesung,Zum Tee bei Theodor Storm
END:VEVENT
END:VCALENDAR