BEGIN:VCALENDAR
VERSION:2.0
PRODID:-//Literaturmuseum Theodor Storm - ECPv6.15.20//NONSGML v1.0//EN
CALSCALE:GREGORIAN
METHOD:PUBLISH
X-WR-CALNAME:Literaturmuseum Theodor Storm
X-ORIGINAL-URL:https://stormmuseum.de
X-WR-CALDESC:Veranstaltungen für Literaturmuseum Theodor Storm
REFRESH-INTERVAL;VALUE=DURATION:PT1H
X-Robots-Tag:noindex
X-PUBLISHED-TTL:PT1H
BEGIN:VTIMEZONE
TZID:Europe/Berlin
BEGIN:DAYLIGHT
TZOFFSETFROM:+0100
TZOFFSETTO:+0200
TZNAME:CEST
DTSTART:20120325T010000
END:DAYLIGHT
BEGIN:STANDARD
TZOFFSETFROM:+0200
TZOFFSETTO:+0100
TZNAME:CET
DTSTART:20121028T010000
END:STANDARD
BEGIN:DAYLIGHT
TZOFFSETFROM:+0100
TZOFFSETTO:+0200
TZNAME:CEST
DTSTART:20130331T010000
END:DAYLIGHT
BEGIN:STANDARD
TZOFFSETFROM:+0200
TZOFFSETTO:+0100
TZNAME:CET
DTSTART:20131027T010000
END:STANDARD
BEGIN:DAYLIGHT
TZOFFSETFROM:+0100
TZOFFSETTO:+0200
TZNAME:CEST
DTSTART:20140330T010000
END:DAYLIGHT
BEGIN:STANDARD
TZOFFSETFROM:+0200
TZOFFSETTO:+0100
TZNAME:CET
DTSTART:20141026T010000
END:STANDARD
END:VTIMEZONE
BEGIN:VEVENT
DTSTART;TZID=Europe/Berlin:20130116T193000
DTEND;TZID=Europe/Berlin:20130116T193000
DTSTAMP:20260422T015325
CREATED:20200620T112519Z
LAST-MODIFIED:20200620T112519Z
UID:2847-1358364600-1358364600@stormmuseum.de
SUMMARY:Du liebst mich nicht! – Der Heinrich Heine Abend
DESCRIPTION:Laurentiuskapelle des Landratsamtes\nMichael Chaim Langer und Joachim Günther als JONTEF DUO präsentieren:\nDu liebst mich nicht! – Der Heinrich Heine Abend \nEine Auswahl der schönsten Gedichte und Geschichten Heinrich Heines\, gesungen\, deklamiert und gespielt\, mit Musik und viel Humor!\nJoachim Günther\, Pianist\, Komponist und Mitglied der Gruppe JONTEF hat sich an Heine gewagt! Herausgekommen sind Lieder von aktueller Frische und mitreißendem Charme\, in der Tradition des deutschen Chansons\, zwischen romantisch-lyrisch-ironischem Ton und zupackender Rhythmik\, die von\nMichael Chaim Langer gesungen\, rezitiert und mit expressiver schauspielerischer Mimik vorgetragen werden.\nEintritt: 5\, – €\nIm Vorverkauf und für Vereinsmitglieder: 4\, – €
URL:https://stormmuseum.de/termin/du-liebst-mich-nicht-der-heinrich-heine-abend/
LOCATION:Thüringen
CATEGORIES:Jahr 2013,Konzert
END:VEVENT
END:VCALENDAR