BEGIN:VCALENDAR
VERSION:2.0
PRODID:-//Literaturmuseum Theodor Storm - ECPv6.15.20//NONSGML v1.0//EN
CALSCALE:GREGORIAN
METHOD:PUBLISH
X-WR-CALNAME:Literaturmuseum Theodor Storm
X-ORIGINAL-URL:https://stormmuseum.de
X-WR-CALDESC:Veranstaltungen für Literaturmuseum Theodor Storm
REFRESH-INTERVAL;VALUE=DURATION:PT1H
X-Robots-Tag:noindex
X-PUBLISHED-TTL:PT1H
BEGIN:VTIMEZONE
TZID:Europe/Berlin
BEGIN:DAYLIGHT
TZOFFSETFROM:+0100
TZOFFSETTO:+0200
TZNAME:CEST
DTSTART:20110327T010000
END:DAYLIGHT
BEGIN:STANDARD
TZOFFSETFROM:+0200
TZOFFSETTO:+0100
TZNAME:CET
DTSTART:20111030T010000
END:STANDARD
BEGIN:DAYLIGHT
TZOFFSETFROM:+0100
TZOFFSETTO:+0200
TZNAME:CEST
DTSTART:20120325T010000
END:DAYLIGHT
BEGIN:STANDARD
TZOFFSETFROM:+0200
TZOFFSETTO:+0100
TZNAME:CET
DTSTART:20121028T010000
END:STANDARD
BEGIN:DAYLIGHT
TZOFFSETFROM:+0100
TZOFFSETTO:+0200
TZNAME:CEST
DTSTART:20130331T010000
END:DAYLIGHT
BEGIN:STANDARD
TZOFFSETFROM:+0200
TZOFFSETTO:+0100
TZNAME:CET
DTSTART:20131027T010000
END:STANDARD
END:VTIMEZONE
BEGIN:VEVENT
DTSTART;TZID=Europe/Berlin:20120207T160000
DTEND;TZID=Europe/Berlin:20120207T160000
DTSTAMP:20260422T192542
CREATED:20200610T184431Z
LAST-MODIFIED:20200610T184431Z
UID:2596-1328630400-1328630400@stormmuseum.de
SUMMARY:Zum Tee bei Theodor Storm
DESCRIPTION:Die Märchenforscherin und -pädagogin Hildegard von Campe\, Bad Karlshafen\, erzählt zur Teestunde Märchen der Völker unter dem Motto „Wege zum Glück – Märchen als Weggeschichten“
URL:https://stormmuseum.de/termin/zum-tee-bei-theodor-storm-9/
LOCATION:Literaturmuseum „Theodor Storm“\, Am Berge 2\, Heilbad Heiligenstadt\, Thüringen\, 37308\, Deutschland
CATEGORIES:Jahr 2012,Lesung,Zum Tee bei Theodor Storm
ATTACH;FMTTYPE=image/jpeg:https://stormmuseum.de/wp-content/uploads/2020/06/Zum-Tee-bei-Storm.jpg
END:VEVENT
BEGIN:VEVENT
DTSTART;TZID=Europe/Berlin:20120215T193000
DTEND;TZID=Europe/Berlin:20120215T193000
DTSTAMP:20260422T192542
CREATED:20200610T184918Z
LAST-MODIFIED:20200610T184918Z
UID:2600-1329334200-1329334200@stormmuseum.de
SUMMARY:Vortrag
DESCRIPTION:Karl Albert Heidenblut: „Das Mainzer Haus – ein spätgotisches Fachwerkhausdenkmal“.\nDer nur lückenhaft dokumentierten Baugeschichte des Mainzer Hauses\, des ältesten Fachwerkhauses Heiligenstadts\, in dem heute das Literaturmuseum „Theodor Storm“ beheimatet ist\, hat Karl Albert Heidenblut auf akribische Weise nachgespürt.
URL:https://stormmuseum.de/termin/vortrag-9/
LOCATION:Literaturmuseum „Theodor Storm“\, Am Berge 2\, Heilbad Heiligenstadt\, Thüringen\, 37308\, Deutschland
CATEGORIES:Jahr 2012,Vortrag
ATTACH;FMTTYPE=image/jpeg:https://stormmuseum.de/wp-content/uploads/2020/06/Literaturmuseum_1988_klein.jpg
END:VEVENT
BEGIN:VEVENT
DTSTART;TZID=Europe/Berlin:20120216T150000
DTEND;TZID=Europe/Berlin:20120216T150000
DTSTAMP:20260422T192542
CREATED:20200610T185215Z
LAST-MODIFIED:20200610T185215Z
UID:2604-1329404400-1329404400@stormmuseum.de
SUMMARY:Vorlesewettbewerb
DESCRIPTION:Kreisausscheid! des Börsenvereins des Deutschen Buchhandels \nIn Zusammenarbeit mit der Buchhandlung Multhauf und der Bergschule St. Elisabeth\, Gymnasium\, in Heiligenstadt
URL:https://stormmuseum.de/termin/vorlesewettbewerb/
LOCATION:Literaturmuseum „Theodor Storm“\, Am Berge 2\, Heilbad Heiligenstadt\, Thüringen\, 37308\, Deutschland
CATEGORIES:Jahr 2012,Vorlesewettbewerb
ATTACH;FMTTYPE=image/jpeg:https://stormmuseum.de/wp-content/uploads/2020/05/Bücher-2.jpg
END:VEVENT
BEGIN:VEVENT
DTSTART;TZID=Europe/Berlin:20120222T143000
DTEND;TZID=Europe/Berlin:20120222T143000
DTSTAMP:20260422T192542
CREATED:20200610T185329Z
LAST-MODIFIED:20200610T185329Z
UID:2607-1329921000-1329921000@stormmuseum.de
SUMMARY:Märchenstunde im Literaturmuseum
DESCRIPTION:
URL:https://stormmuseum.de/termin/maerchenstunde-im-literaturmuseum-2/
LOCATION:Literaturmuseum „Theodor Storm“\, Am Berge 2\, Heilbad Heiligenstadt\, Thüringen\, 37308\, Deutschland
CATEGORIES:Jahr 2012,Kinder,Lesung
ATTACH;FMTTYPE=image/jpeg:https://stormmuseum.de/wp-content/uploads/2020/06/Raum-6.jpg
END:VEVENT
BEGIN:VEVENT
DTSTART;TZID=Europe/Berlin:20120229T193000
DTEND;TZID=Europe/Berlin:20120229T193000
DTSTAMP:20260422T192542
CREATED:20200610T185552Z
LAST-MODIFIED:20200610T185552Z
UID:2610-1330543800-1330543800@stormmuseum.de
SUMMARY:Vorstellung des Turmalin-Theaters
DESCRIPTION:„Kassandra“\nAutorisierte Bühnenfassung nach Christa Wolf.\nEin Solo-Abend mit Cornelia Gutermann-Bauer. Regie: Günter Bauer \nEintritt: \nVorverkauf :10\, – € \nVereinsmitglieder: 8\, – € \nOrt: Altes Rathaus
URL:https://stormmuseum.de/termin/vorstellung-des-turmalin-theaters/
LOCATION:Literaturmuseum „Theodor Storm“\, Am Berge 2\, Heilbad Heiligenstadt\, Thüringen\, 37308\, Deutschland
CATEGORIES:Jahr 2012,Theater
END:VEVENT
END:VCALENDAR