BEGIN:VCALENDAR
VERSION:2.0
PRODID:-//Literaturmuseum Theodor Storm - ECPv6.15.20//NONSGML v1.0//EN
CALSCALE:GREGORIAN
METHOD:PUBLISH
X-WR-CALNAME:Literaturmuseum Theodor Storm
X-ORIGINAL-URL:https://stormmuseum.de
X-WR-CALDESC:Veranstaltungen für Literaturmuseum Theodor Storm
REFRESH-INTERVAL;VALUE=DURATION:PT1H
X-Robots-Tag:noindex
X-PUBLISHED-TTL:PT1H
BEGIN:VTIMEZONE
TZID:Europe/Berlin
BEGIN:DAYLIGHT
TZOFFSETFROM:+0100
TZOFFSETTO:+0200
TZNAME:CEST
DTSTART:20100328T010000
END:DAYLIGHT
BEGIN:STANDARD
TZOFFSETFROM:+0200
TZOFFSETTO:+0100
TZNAME:CET
DTSTART:20101031T010000
END:STANDARD
BEGIN:DAYLIGHT
TZOFFSETFROM:+0100
TZOFFSETTO:+0200
TZNAME:CEST
DTSTART:20110327T010000
END:DAYLIGHT
BEGIN:STANDARD
TZOFFSETFROM:+0200
TZOFFSETTO:+0100
TZNAME:CET
DTSTART:20111030T010000
END:STANDARD
BEGIN:DAYLIGHT
TZOFFSETFROM:+0100
TZOFFSETTO:+0200
TZNAME:CEST
DTSTART:20120325T010000
END:DAYLIGHT
BEGIN:STANDARD
TZOFFSETFROM:+0200
TZOFFSETTO:+0100
TZNAME:CET
DTSTART:20121028T010000
END:STANDARD
END:VTIMEZONE
BEGIN:VEVENT
DTSTART;TZID=Europe/Berlin:20111206T160000
DTEND;TZID=Europe/Berlin:20111206T160000
DTSTAMP:20260422T223546
CREATED:20200610T155813Z
LAST-MODIFIED:20200610T155813Z
UID:2569-1323187200-1323187200@stormmuseum.de
SUMMARY:Zum Tee bei Theodor Storm
DESCRIPTION:Aus Thomas Manns Roman „Die Buddenbrooks“ liest Dr. Regina Fasold aus dem 8. Buch das 8. Kapitel: ‚Weihnachten im Hause Buddenbrook’. \nEintritt für Nichtmitglieder: 2\, – €
URL:https://stormmuseum.de/termin/zum-tee-bei-theodor-storm-8/
LOCATION:Literaturmuseum „Theodor Storm“\, Am Berge 2\, Heilbad Heiligenstadt\, Thüringen\, 37308\, Deutschland
CATEGORIES:Jahr 2011,Lesung,Zum Tee bei Theodor Storm
END:VEVENT
BEGIN:VEVENT
DTSTART;TZID=Europe/Berlin:20111207T193000
DTEND;TZID=Europe/Berlin:20111207T193000
DTSTAMP:20260422T223546
CREATED:20200610T160014Z
LAST-MODIFIED:20200610T160215Z
UID:2572-1323286200-1323286200@stormmuseum.de
SUMMARY:Buchvorstellung
DESCRIPTION:Prof . Dr. Dr. h. c. Heinrich Detering stellt sein jüngstes Storm-Buch vor: „Kindheitsspuren. Theodor Storm und das Ende der Romantik“ \nBoyens Buchverlag GmbH & Co. KG 2011\nKein anderer Dichter des Poetischen Realismus hat sich so intensiv mit dem Erbe der Romantik beschäftigt wie Theodor Storm. Lebenslang hat er die Spannung zwischen ihren Sehnsuchtsbildern und den Desillusionierungen des Realismus immer von Neuem auszutragen versucht.\nDas geschieht vor allem in den vielfältigen Verwandlungen einer zentralen romantischen Idee: der Verklärung des Kindes zum Ideal eines reinen\, unschuldigen und ursprünglich paradiesischen Daseins. „Wo Kinder sind\, da ist goldenes Zeitalter“\, hatte Novalis 1798 verkündet. „Die Spur von meinen Kinderfüßen sucht’ ich“\, heißt es in einem von Storms programmatischen Gedichten\, „Doch konnt’  ich sie nicht finden.“ Immer wieder kann man in Storms Werk diesem Leitbild begegnen\, in dem sich die epochalen Verwerfungen zwischen Romantik und Realismus mit sehr persönlichen Phantasien\, Ängsten und Obsessionen berühren. Von Beginn an begibt sich das Werk dieses großen Realisten auf die romantische Suche nach der verlorenen Kindheit. Seinen Wegen und Irrwegen geht Heinrich Deterings Buch nach.\n\nHeinrich Detering ist Professor für Neuere deutsche und Vergleichende Literaturwissenschaft an der Universität Göttingen und Präsident der Theodor-Storm-Gesellschaft.
URL:https://stormmuseum.de/termin/buchvorstellung-4/
LOCATION:Literaturmuseum „Theodor Storm“\, Am Berge 2\, Heilbad Heiligenstadt\, Thüringen\, 37308\, Deutschland
CATEGORIES:Buchvorstellung,Jahr 2011
ATTACH;FMTTYPE=image/jpeg:https://stormmuseum.de/wp-content/uploads/2020/05/Buchrücken-scaled.jpg
END:VEVENT
BEGIN:VEVENT
DTSTART;TZID=Europe/Berlin:20111214T190000
DTEND;TZID=Europe/Berlin:20111214T190000
DTSTAMP:20260422T223546
CREATED:20200610T160749Z
LAST-MODIFIED:20200610T160749Z
UID:2575-1323889200-1323889200@stormmuseum.de
SUMMARY:Weihnachtsfeier
DESCRIPTION:Weihnachtsfeier des Theodor-Storm Vereins Heilbad Heiligenstadt
URL:https://stormmuseum.de/termin/weihnachtsfeier-2/
LOCATION:Literaturmuseum „Theodor Storm“\, Am Berge 2\, Heilbad Heiligenstadt\, Thüringen\, 37308\, Deutschland
CATEGORIES:Buchvorstellung,Jahr 2011
END:VEVENT
END:VCALENDAR