BEGIN:VCALENDAR
VERSION:2.0
PRODID:-//Literaturmuseum Theodor Storm - ECPv6.15.20//NONSGML v1.0//EN
CALSCALE:GREGORIAN
METHOD:PUBLISH
X-WR-CALNAME:Literaturmuseum Theodor Storm
X-ORIGINAL-URL:https://stormmuseum.de
X-WR-CALDESC:Veranstaltungen für Literaturmuseum Theodor Storm
REFRESH-INTERVAL;VALUE=DURATION:PT1H
X-Robots-Tag:noindex
X-PUBLISHED-TTL:PT1H
BEGIN:VTIMEZONE
TZID:Europe/Berlin
BEGIN:DAYLIGHT
TZOFFSETFROM:+0100
TZOFFSETTO:+0200
TZNAME:CEST
DTSTART:20100328T010000
END:DAYLIGHT
BEGIN:STANDARD
TZOFFSETFROM:+0200
TZOFFSETTO:+0100
TZNAME:CET
DTSTART:20101031T010000
END:STANDARD
BEGIN:DAYLIGHT
TZOFFSETFROM:+0100
TZOFFSETTO:+0200
TZNAME:CEST
DTSTART:20110327T010000
END:DAYLIGHT
BEGIN:STANDARD
TZOFFSETFROM:+0200
TZOFFSETTO:+0100
TZNAME:CET
DTSTART:20111030T010000
END:STANDARD
BEGIN:DAYLIGHT
TZOFFSETFROM:+0100
TZOFFSETTO:+0200
TZNAME:CEST
DTSTART:20120325T010000
END:DAYLIGHT
BEGIN:STANDARD
TZOFFSETFROM:+0200
TZOFFSETTO:+0100
TZNAME:CET
DTSTART:20121028T010000
END:STANDARD
END:VTIMEZONE
BEGIN:VEVENT
DTSTART;TZID=Europe/Berlin:20110911T143000
DTEND;TZID=Europe/Berlin:20110911T143000
DTSTAMP:20260423T024024
CREATED:20200610T154517Z
LAST-MODIFIED:20200610T154517Z
UID:2548-1315751400-1315751400@stormmuseum.de
SUMMARY:Tag des offenen Denkmals
DESCRIPTION:Anlässlich des Tages des offenen Denkmals und des Stadtfestes öffnet der\nTheodor-Storm-Verein das „Mainzer Haus“ mit dem Literaturmuseum „Theodor Storm“ und lädt im Rosengarten zu Kaffee und Kuchen ein.
URL:https://stormmuseum.de/termin/tag-des-offenen-denkmals-3/
LOCATION:Literaturmuseum „Theodor Storm“\, Am Berge 2\, Heilbad Heiligenstadt\, Thüringen\, 37308\, Deutschland
CATEGORIES:Jahr 2011,Tag des offenen Denkmals
ATTACH;FMTTYPE=image/jpeg:https://stormmuseum.de/wp-content/uploads/2020/03/Fotostudio_EdlerWeboptimiert.jpg
END:VEVENT
BEGIN:VEVENT
DTSTART;TZID=Europe/Berlin:20110925T110000
DTEND;TZID=Europe/Berlin:20110925T110000
DTSTAMP:20260423T024024
CREATED:20200610T154654Z
LAST-MODIFIED:20200610T154654Z
UID:2551-1316948400-1316948400@stormmuseum.de
SUMMARY:Ausstellungseröffnung
DESCRIPTION:„Günter Machemehl (1911–1970)\, ein vergessener Expressionist“\nAquarelle. Bilder in Mischtechnik. Zeichnungen.\nEinführung: Erwin Jenett\, Oldenburg \nDer 1911 in Schlawe in Pommern geborene Günter Machemehl ist den Spätexpressionisten zuzuordnen. Zu seinen bevorzugten Sujets gehören Landschaften\, Selbstporträts und Stillleben von intensiver Farbigkeit. Außer Aquarellen und Bildern in Mischtechnik finden sich in seinem Oeuvre zahlreiche Skizzen\, Vorstudien und Entwürfe\, aber auch reizvolle Kleinkunst wie Illustrationen auf Briefen und Postkarten sowie mit Aquarellen gestaltete Buchumschläge. Günter Machemehl verband eine lebenslange Freundschaft mit dem Schriftsteller Hermann Hesse (1877–1962)\, mit dem er in regem Briefaustausch stand\, sowie mit dem „Brücke“-Maler Karl Schmidt-Rottluff (1884–1976). Im Haus von Günter und Anne Liese Machemehl in Sierksdorf an der Ostssee verbrachte Schmidt-Rottluff ab 1954 seine Sommeraufenthalte.
URL:https://stormmuseum.de/termin/ausstellungseroeffnung-11/
LOCATION:Literaturmuseum „Theodor Storm“\, Am Berge 2\, Heilbad Heiligenstadt\, Thüringen\, 37308\, Deutschland
CATEGORIES:Ausstellungseröffnung,Jahr 2011
END:VEVENT
END:VCALENDAR