BEGIN:VCALENDAR
VERSION:2.0
PRODID:-//Literaturmuseum Theodor Storm - ECPv6.15.20//NONSGML v1.0//EN
CALSCALE:GREGORIAN
METHOD:PUBLISH
X-WR-CALNAME:Literaturmuseum Theodor Storm
X-ORIGINAL-URL:https://stormmuseum.de
X-WR-CALDESC:Veranstaltungen für Literaturmuseum Theodor Storm
REFRESH-INTERVAL;VALUE=DURATION:PT1H
X-Robots-Tag:noindex
X-PUBLISHED-TTL:PT1H
BEGIN:VTIMEZONE
TZID:Europe/Berlin
BEGIN:DAYLIGHT
TZOFFSETFROM:+0100
TZOFFSETTO:+0200
TZNAME:CEST
DTSTART:20100328T010000
END:DAYLIGHT
BEGIN:STANDARD
TZOFFSETFROM:+0200
TZOFFSETTO:+0100
TZNAME:CET
DTSTART:20101031T010000
END:STANDARD
BEGIN:DAYLIGHT
TZOFFSETFROM:+0100
TZOFFSETTO:+0200
TZNAME:CEST
DTSTART:20110327T010000
END:DAYLIGHT
BEGIN:STANDARD
TZOFFSETFROM:+0200
TZOFFSETTO:+0100
TZNAME:CET
DTSTART:20111030T010000
END:STANDARD
BEGIN:DAYLIGHT
TZOFFSETFROM:+0100
TZOFFSETTO:+0200
TZNAME:CEST
DTSTART:20120325T010000
END:DAYLIGHT
BEGIN:STANDARD
TZOFFSETFROM:+0200
TZOFFSETTO:+0100
TZNAME:CET
DTSTART:20121028T010000
END:STANDARD
END:VTIMEZONE
BEGIN:VEVENT
DTSTART;VALUE=DATE:20110701
DTEND;VALUE=DATE:20110705
DTSTAMP:20260423T054652
CREATED:20200610T153829Z
LAST-MODIFIED:20200610T154311Z
UID:2536-1309485600-1309744799@stormmuseum.de
SUMMARY:Stormtage in Heiligenstadt
DESCRIPTION:Festliche Eröffnung\n1. Juli\, 19.30 Uhr\, Gemeindehaus der evangelischen Pfarrgemeinde Heiligenstadt\nJochen Missfeldt (Oeversee) liest aus seiner Storm-Biographie das Heiligenstadt-Kapitel (geplantes Erscheinen des Buches 2011). \nEs musizieren:\nClaus Kühnl (Steinbach/Ts.)\, Klavier; Mathias Hummel (Würzburg)\, Bariton:\nZehn Stormlieder in der Vertonung von Bertold Hummel (1925–2002) \nAusstellungseröffnung\n2. Juli\, 11.00 Uhr\, Literaturmuseum\nSiri Pasina (Husum): „Deutsche Klassiker in Bildern. Gemälde und Zeichnungen zu Goethe\, Heine\, Theodor Storm und Thomas Mann“. \nVortrag\n2. Juli\, 14.30 Uhr\, Literaturmuseum\nDr. Aiko Onken (Berlin)\n(das Vortragsthema wird noch bekannt gegeben) \nKonzert\n2. Juli\, 19.30 Uhr\, Rosengarten am Literaturmuseum (bei schlechtem Wetter in der Laurentiuskapelle des Landratsamtes)\nEs musiziert das Gitarrenorchester der Musikschule Nordhausen „La Speranza“ unter der Leitung von Daniela Heise (Nordhausen) \nVortrag\n3. Juli\, 10.00 Uhr\, Literaturmuseum\nProf. Dr. Youn-Ock Kim (Seoul): Storms literarische Welt aus koreanischer Sicht \nAusflug auf den Iberg\nStart am Literaturmuseum um 11.30 Uhr
URL:https://stormmuseum.de/termin/stormtage-in-heiligenstadt-3/
LOCATION:Literaturmuseum „Theodor Storm“\, Am Berge 2\, Heilbad Heiligenstadt\, Thüringen\, 37308\, Deutschland
CATEGORIES:Ausflug,Ausstellungseröffnung,Jahr 2011,Konzert,Lesung,Storm-Tage,Vortrag
END:VEVENT
END:VCALENDAR