BEGIN:VCALENDAR
VERSION:2.0
PRODID:-//Literaturmuseum Theodor Storm - ECPv6.15.20//NONSGML v1.0//EN
CALSCALE:GREGORIAN
METHOD:PUBLISH
X-WR-CALNAME:Literaturmuseum Theodor Storm
X-ORIGINAL-URL:https://stormmuseum.de
X-WR-CALDESC:Veranstaltungen für Literaturmuseum Theodor Storm
REFRESH-INTERVAL;VALUE=DURATION:PT1H
X-Robots-Tag:noindex
X-PUBLISHED-TTL:PT1H
BEGIN:VTIMEZONE
TZID:Europe/Berlin
BEGIN:DAYLIGHT
TZOFFSETFROM:+0100
TZOFFSETTO:+0200
TZNAME:CEST
DTSTART:20100328T010000
END:DAYLIGHT
BEGIN:STANDARD
TZOFFSETFROM:+0200
TZOFFSETTO:+0100
TZNAME:CET
DTSTART:20101031T010000
END:STANDARD
BEGIN:DAYLIGHT
TZOFFSETFROM:+0100
TZOFFSETTO:+0200
TZNAME:CEST
DTSTART:20110327T010000
END:DAYLIGHT
BEGIN:STANDARD
TZOFFSETFROM:+0200
TZOFFSETTO:+0100
TZNAME:CET
DTSTART:20111030T010000
END:STANDARD
BEGIN:DAYLIGHT
TZOFFSETFROM:+0100
TZOFFSETTO:+0200
TZNAME:CEST
DTSTART:20120325T010000
END:DAYLIGHT
BEGIN:STANDARD
TZOFFSETFROM:+0200
TZOFFSETTO:+0100
TZNAME:CET
DTSTART:20121028T010000
END:STANDARD
END:VTIMEZONE
BEGIN:VEVENT
DTSTART;TZID=Europe/Berlin:20110208T160000
DTEND;TZID=Europe/Berlin:20110208T160000
DTSTAMP:20260423T140019
CREATED:20200610T145517Z
LAST-MODIFIED:20200610T145517Z
UID:2489-1297180800-1297180800@stormmuseum.de
SUMMARY:Zum Tee bei Theodor Storm
DESCRIPTION:In gemütlicher nachmittäglicher Runde wird im Literaturmuseum vorgelesen und Tee getrunken – wie einst bei Storms in Husum und Heiligenstadt.\nZu Gast ist Christine Bose (Heiligenstadt)
URL:https://stormmuseum.de/termin/zum-tee-bei-theodor-storm-5/
LOCATION:Literaturmuseum „Theodor Storm“\, Am Berge 2\, Heilbad Heiligenstadt\, Thüringen\, 37308\, Deutschland
CATEGORIES:Jahr 2011,Zum Tee bei Theodor Storm
END:VEVENT
BEGIN:VEVENT
DTSTART;TZID=Europe/Berlin:20110217T150000
DTEND;TZID=Europe/Berlin:20110217T150000
DTSTAMP:20260423T140019
CREATED:20200610T150010Z
LAST-MODIFIED:20200620T111715Z
UID:2493-1297954800-1297954800@stormmuseum.de
SUMMARY:Vorlesewettbewerb des Börsenvereins des Deutschen Buchhandels
DESCRIPTION:Kreisausscheid!\nDer seit 1959 jährlich durchgeführte Wettbewerb zählt zu den größten Schülerwettbewerben deutschlandweit und steht unter der Schirmherrschaft des Bundespräsidenten. In Zusammenarbeit mit der Buchhandlung Multhauf und der Bergschule St. Elisabeth\, Gymnasium\, in Heiligenstadt.
URL:https://stormmuseum.de/termin/vorlesewettbewerb-des-boersenvereins-des-deutschen-buchhandels-2/
LOCATION:Literaturmuseum „Theodor Storm“\, Am Berge 2\, Heilbad Heiligenstadt\, Thüringen\, 37308\, Deutschland
CATEGORIES:Jahr 2011,Kinder,Vorlesewettbewerb
ATTACH;FMTTYPE=image/jpeg:https://stormmuseum.de/wp-content/uploads/2020/05/Bücher-1.jpg
END:VEVENT
BEGIN:VEVENT
DTSTART;TZID=Europe/Berlin:20110223T193000
DTEND;TZID=Europe/Berlin:20110223T193000
DTSTAMP:20260423T140019
CREATED:20200610T151036Z
LAST-MODIFIED:20200610T151058Z
UID:2506-1298489400-1298489400@stormmuseum.de
SUMMARY:Buchvorstellung und Lesung
DESCRIPTION:Kerstin Decker liest aus ihrer Biographie: „Lou Andreas-Salomé. Der bittersüße Funke Ich“. \nUllstein Buchverlage GmbH Berlin. \nWer war diese Frau\, die Rilkes frühe Dichtung in den Papierkorb beförderte\, mit Nietzsche über Philosophie und mit Freud über Psychoanalyse diskutierte – von ihnen allen als ebenbürtig anerkannt? Zum 150. Geburtstag Lou Andreas-Salomés (1861–1937) wirft Kerstin Decker einen neuen Blick auf diese hochintelligente und charakterstarke Frau\, deren Wiederentdeckung sich lohnt.
URL:https://stormmuseum.de/termin/buchvorstellung-und-lesung/
LOCATION:Literaturmuseum „Theodor Storm“\, Am Berge 2\, Heilbad Heiligenstadt\, Thüringen\, 37308\, Deutschland
CATEGORIES:Jahr 2011,Lesung
END:VEVENT
END:VCALENDAR