BEGIN:VCALENDAR
VERSION:2.0
PRODID:-//Literaturmuseum Theodor Storm - ECPv6.15.20//NONSGML v1.0//EN
CALSCALE:GREGORIAN
METHOD:PUBLISH
X-WR-CALNAME:Literaturmuseum Theodor Storm
X-ORIGINAL-URL:https://stormmuseum.de
X-WR-CALDESC:Veranstaltungen für Literaturmuseum Theodor Storm
REFRESH-INTERVAL;VALUE=DURATION:PT1H
X-Robots-Tag:noindex
X-PUBLISHED-TTL:PT1H
BEGIN:VTIMEZONE
TZID:Europe/Berlin
BEGIN:DAYLIGHT
TZOFFSETFROM:+0100
TZOFFSETTO:+0200
TZNAME:CEST
DTSTART:20090329T010000
END:DAYLIGHT
BEGIN:STANDARD
TZOFFSETFROM:+0200
TZOFFSETTO:+0100
TZNAME:CET
DTSTART:20091025T010000
END:STANDARD
BEGIN:DAYLIGHT
TZOFFSETFROM:+0100
TZOFFSETTO:+0200
TZNAME:CEST
DTSTART:20100328T010000
END:DAYLIGHT
BEGIN:STANDARD
TZOFFSETFROM:+0200
TZOFFSETTO:+0100
TZNAME:CET
DTSTART:20101031T010000
END:STANDARD
BEGIN:DAYLIGHT
TZOFFSETFROM:+0100
TZOFFSETTO:+0200
TZNAME:CEST
DTSTART:20110327T010000
END:DAYLIGHT
BEGIN:STANDARD
TZOFFSETFROM:+0200
TZOFFSETTO:+0100
TZNAME:CET
DTSTART:20111030T010000
END:STANDARD
END:VTIMEZONE
BEGIN:VEVENT
DTSTART;TZID=Europe/Berlin:20101019T160000
DTEND;TZID=Europe/Berlin:20101019T160000
DTSTAMP:20260423T195000
CREATED:20200610T140847Z
LAST-MODIFIED:20200610T142605Z
UID:2410-1287504000-1287504000@stormmuseum.de
SUMMARY:Zum Tee bei Theodor Storm
DESCRIPTION:In gemütlicher nachmittäglicher Runde wird im Literaturmuseum vorgelesen und Tee getrunken – wie einst bei Storms in Husum und Heiligenstadt.\nLesung aus dem Gedichtband “Adagio” (1947) von Felix Timmermanns (1886 – 1947).\nZu Gast ist Ingrid Wolters (Kempen)
URL:https://stormmuseum.de/termin/zum-tee-bei-theodor-storm-3/
LOCATION:Literaturmuseum „Theodor Storm“\, Am Berge 2\, Heilbad Heiligenstadt\, Thüringen\, 37308\, Deutschland
CATEGORIES:Jahr 2010,Lesung,Zum Tee bei Theodor Storm
END:VEVENT
BEGIN:VEVENT
DTSTART;TZID=Europe/Berlin:20101027T193000
DTEND;TZID=Europe/Berlin:20101027T193000
DTSTAMP:20260423T195000
CREATED:20200610T141039Z
LAST-MODIFIED:20200610T143434Z
UID:2413-1288207800-1288207800@stormmuseum.de
SUMMARY:Getroffen von einem Tag\, der keine Lüge kennt
DESCRIPTION:Literarische Hommage an Hanns Cibulka anlässlich dessen 90. Geburtstages mit Gedichten und Tagebuchaufzeichnungen. \nMit Wulf Kirsten\, Weimar (Idee und Ausführung)\, Martin Stiebert\, Jena (Texte) \n(Eine Veranstaltung in Zusammenarbeit mit der Literarischen Gesellschaft Thüringen e. V.)
URL:https://stormmuseum.de/termin/getroffen-von-einem-tag-der-keine-luege-kennt/
LOCATION:Literaturmuseum „Theodor Storm“\, Am Berge 2\, Heilbad Heiligenstadt\, Thüringen\, 37308\, Deutschland
CATEGORIES:Jahr 2010,Lesung,Vortrag
END:VEVENT
END:VCALENDAR