BEGIN:VCALENDAR
VERSION:2.0
PRODID:-//Literaturmuseum Theodor Storm - ECPv6.15.20//NONSGML v1.0//EN
CALSCALE:GREGORIAN
METHOD:PUBLISH
X-WR-CALNAME:Literaturmuseum Theodor Storm
X-ORIGINAL-URL:https://stormmuseum.de
X-WR-CALDESC:Veranstaltungen für Literaturmuseum Theodor Storm
REFRESH-INTERVAL;VALUE=DURATION:PT1H
X-Robots-Tag:noindex
X-PUBLISHED-TTL:PT1H
BEGIN:VTIMEZONE
TZID:Europe/Berlin
BEGIN:DAYLIGHT
TZOFFSETFROM:+0100
TZOFFSETTO:+0200
TZNAME:CEST
DTSTART:20090329T010000
END:DAYLIGHT
BEGIN:STANDARD
TZOFFSETFROM:+0200
TZOFFSETTO:+0100
TZNAME:CET
DTSTART:20091025T010000
END:STANDARD
BEGIN:DAYLIGHT
TZOFFSETFROM:+0100
TZOFFSETTO:+0200
TZNAME:CEST
DTSTART:20100328T010000
END:DAYLIGHT
BEGIN:STANDARD
TZOFFSETFROM:+0200
TZOFFSETTO:+0100
TZNAME:CET
DTSTART:20101031T010000
END:STANDARD
BEGIN:DAYLIGHT
TZOFFSETFROM:+0100
TZOFFSETTO:+0200
TZNAME:CEST
DTSTART:20110327T010000
END:DAYLIGHT
BEGIN:STANDARD
TZOFFSETFROM:+0200
TZOFFSETTO:+0100
TZNAME:CET
DTSTART:20111030T010000
END:STANDARD
END:VTIMEZONE
BEGIN:VEVENT
DTSTART;TZID=Europe/Berlin:20100912T120000
DTEND;TZID=Europe/Berlin:20100912T120000
DTSTAMP:20260423T210940
CREATED:20200610T140631Z
LAST-MODIFIED:20200610T140631Z
UID:2404-1284292800-1284292800@stormmuseum.de
SUMMARY:Tag des offenen Denkmals
DESCRIPTION:
URL:https://stormmuseum.de/termin/tag-des-offenen-denkmals-2/
LOCATION:Literaturmuseum „Theodor Storm“\, Am Berge 2\, Heilbad Heiligenstadt\, Thüringen\, 37308\, Deutschland
CATEGORIES:Jahr 2010,Tag des offenen Denkmals
END:VEVENT
BEGIN:VEVENT
DTSTART;TZID=Europe/Berlin:20100926T110000
DTEND;TZID=Europe/Berlin:20100926T110000
DTSTAMP:20260423T210940
CREATED:20200610T140728Z
LAST-MODIFIED:20200610T141230Z
UID:2407-1285498800-1285498800@stormmuseum.de
SUMMARY:Ausstellungseröffnung
DESCRIPTION:Willi Sitte: “Blätter zur Literatur”\n(bis 31. Dezember 2010) \nParallel dazu zeigt die „Galerie in der Burg“ (Großbodungen) Arbeiten Willi\nSittes\, die die Traditionslinien des Künstlers sichtbar machen.
URL:https://stormmuseum.de/termin/ausstellungseroeffnung-8/
LOCATION:Literaturmuseum „Theodor Storm“\, Am Berge 2\, Heilbad Heiligenstadt\, Thüringen\, 37308\, Deutschland
CATEGORIES:Ausstellungseröffnung,Jahr 2010
END:VEVENT
END:VCALENDAR