BEGIN:VCALENDAR
VERSION:2.0
PRODID:-//Literaturmuseum Theodor Storm - ECPv6.15.20//NONSGML v1.0//EN
CALSCALE:GREGORIAN
METHOD:PUBLISH
X-WR-CALNAME:Literaturmuseum Theodor Storm
X-ORIGINAL-URL:https://stormmuseum.de
X-WR-CALDESC:Veranstaltungen für Literaturmuseum Theodor Storm
REFRESH-INTERVAL;VALUE=DURATION:PT1H
X-Robots-Tag:noindex
X-PUBLISHED-TTL:PT1H
BEGIN:VTIMEZONE
TZID:Europe/Berlin
BEGIN:DAYLIGHT
TZOFFSETFROM:+0100
TZOFFSETTO:+0200
TZNAME:CEST
DTSTART:20090329T010000
END:DAYLIGHT
BEGIN:STANDARD
TZOFFSETFROM:+0200
TZOFFSETTO:+0100
TZNAME:CET
DTSTART:20091025T010000
END:STANDARD
BEGIN:DAYLIGHT
TZOFFSETFROM:+0100
TZOFFSETTO:+0200
TZNAME:CEST
DTSTART:20100328T010000
END:DAYLIGHT
BEGIN:STANDARD
TZOFFSETFROM:+0200
TZOFFSETTO:+0100
TZNAME:CET
DTSTART:20101031T010000
END:STANDARD
BEGIN:DAYLIGHT
TZOFFSETFROM:+0100
TZOFFSETTO:+0200
TZNAME:CEST
DTSTART:20110327T010000
END:DAYLIGHT
BEGIN:STANDARD
TZOFFSETFROM:+0200
TZOFFSETTO:+0100
TZNAME:CET
DTSTART:20111030T010000
END:STANDARD
END:VTIMEZONE
BEGIN:VEVENT
DTSTART;TZID=Europe/Berlin:20100605T140000
DTEND;TZID=Europe/Berlin:20100605T180000
DTSTAMP:20260424T011813
CREATED:20200610T135810Z
LAST-MODIFIED:20200620T110621Z
UID:2398-1275746400-1275760800@stormmuseum.de
SUMMARY:Rosenfest
DESCRIPTION:unter anderem mit dem Singkreis “St. Ägidien” und dem “Eichsfelder Kammermusikkreis” unter der Leitung von Kantor Siegfried Ihme \nGemeinschaftsveranstaltung von Lions-Club Worbis/Heiligenstadt Eichsfeld und\ndem Theodor-Storm-Verein Heilbad Heiligenstadt
URL:https://stormmuseum.de/termin/rosenfest-3/
LOCATION:Literaturmuseum „Theodor Storm“\, Am Berge 2\, Heilbad Heiligenstadt\, Thüringen\, 37308\, Deutschland
CATEGORIES:Jahr 2010,Konzert,Rosenfest
ATTACH;FMTTYPE=image/jpeg:https://stormmuseum.de/wp-content/uploads/2020/06/Bänke-im-Rosengarten-scaled-e1591816263684.jpg
END:VEVENT
END:VCALENDAR