BEGIN:VCALENDAR
VERSION:2.0
PRODID:-//Literaturmuseum Theodor Storm - ECPv6.15.20//NONSGML v1.0//EN
CALSCALE:GREGORIAN
METHOD:PUBLISH
X-WR-CALNAME:Literaturmuseum Theodor Storm
X-ORIGINAL-URL:https://stormmuseum.de
X-WR-CALDESC:Veranstaltungen für Literaturmuseum Theodor Storm
REFRESH-INTERVAL;VALUE=DURATION:PT1H
X-Robots-Tag:noindex
X-PUBLISHED-TTL:PT1H
BEGIN:VTIMEZONE
TZID:Europe/Berlin
BEGIN:DAYLIGHT
TZOFFSETFROM:+0100
TZOFFSETTO:+0200
TZNAME:CEST
DTSTART:20090329T010000
END:DAYLIGHT
BEGIN:STANDARD
TZOFFSETFROM:+0200
TZOFFSETTO:+0100
TZNAME:CET
DTSTART:20091025T010000
END:STANDARD
BEGIN:DAYLIGHT
TZOFFSETFROM:+0100
TZOFFSETTO:+0200
TZNAME:CEST
DTSTART:20100328T010000
END:DAYLIGHT
BEGIN:STANDARD
TZOFFSETFROM:+0200
TZOFFSETTO:+0100
TZNAME:CET
DTSTART:20101031T010000
END:STANDARD
BEGIN:DAYLIGHT
TZOFFSETFROM:+0100
TZOFFSETTO:+0200
TZNAME:CEST
DTSTART:20110327T010000
END:DAYLIGHT
BEGIN:STANDARD
TZOFFSETFROM:+0200
TZOFFSETTO:+0100
TZNAME:CET
DTSTART:20111030T010000
END:STANDARD
END:VTIMEZONE
BEGIN:VEVENT
DTSTART;TZID=Europe/Berlin:20100514T170000
DTEND;TZID=Europe/Berlin:20100514T170000
DTSTAMP:20260424T024241
CREATED:20200610T135207Z
LAST-MODIFIED:20200610T141415Z
UID:2389-1273856400-1273856400@stormmuseum.de
SUMMARY:Museumsabend
DESCRIPTION:Museumsabend mit den Kindern der Storm-Schule:\nProjektarbeit zu Theodor Storm mit Renate Wanda Gehl (Göttingen)
URL:https://stormmuseum.de/termin/museumsabend/
LOCATION:Literaturmuseum „Theodor Storm“\, Am Berge 2\, Heilbad Heiligenstadt\, Thüringen\, 37308\, Deutschland
CATEGORIES:Jahr 2010,Kinder
END:VEVENT
BEGIN:VEVENT
DTSTART;TZID=Europe/Berlin:20100516T190000
DTEND;TZID=Europe/Berlin:20100516T190000
DTSTAMP:20260424T024241
CREATED:20200610T135500Z
LAST-MODIFIED:20200610T141358Z
UID:2392-1274036400-1274036400@stormmuseum.de
SUMMARY:Internationaler Museumstag
DESCRIPTION:Oliver Steller (Frechen) spricht und singt Heinrich Heine:\n“Schlage die Trommel und fürchte dich nicht”
URL:https://stormmuseum.de/termin/internationaler-museumstag-2/
LOCATION:Literaturmuseum „Theodor Storm“\, Am Berge 2\, Heilbad Heiligenstadt\, Thüringen\, 37308\, Deutschland
CATEGORIES:Internationaler Museumstag,Jahr 2010,Konzert,Lesung
END:VEVENT
BEGIN:VEVENT
DTSTART;TZID=Europe/Berlin:20100520T150000
DTEND;TZID=Europe/Berlin:20100520T150000
DTSTAMP:20260424T024241
CREATED:20200610T135651Z
LAST-MODIFIED:20200610T141327Z
UID:2395-1274367600-1274367600@stormmuseum.de
SUMMARY:“Trainer des aufrechten Ganges” - zum Werk Volker Brauns
DESCRIPTION:Vorschläge für den Unterricht. (Vortrag von Dr. Ulrich Kaufmann)\nEine Veranstaltung des Schulamtes\, organisiert von Renate Hesse\, Fachberaterin Deutsch für Gymnasien. \nDie Veranstaltung ist öffentlich.
URL:https://stormmuseum.de/termin/trainer-des-aufrechten-ganges-zum-werk-volker-brauns/
LOCATION:Literaturmuseum „Theodor Storm“\, Am Berge 2\, Heilbad Heiligenstadt\, Thüringen\, 37308\, Deutschland
CATEGORIES:Jahr 2010,Kinder
END:VEVENT
END:VCALENDAR