BEGIN:VCALENDAR
VERSION:2.0
PRODID:-//Literaturmuseum Theodor Storm - ECPv6.15.20//NONSGML v1.0//EN
CALSCALE:GREGORIAN
METHOD:PUBLISH
X-WR-CALNAME:Literaturmuseum Theodor Storm
X-ORIGINAL-URL:https://stormmuseum.de
X-WR-CALDESC:Veranstaltungen für Literaturmuseum Theodor Storm
REFRESH-INTERVAL;VALUE=DURATION:PT1H
X-Robots-Tag:noindex
X-PUBLISHED-TTL:PT1H
BEGIN:VTIMEZONE
TZID:Europe/Berlin
BEGIN:DAYLIGHT
TZOFFSETFROM:+0100
TZOFFSETTO:+0200
TZNAME:CEST
DTSTART:20080330T010000
END:DAYLIGHT
BEGIN:STANDARD
TZOFFSETFROM:+0200
TZOFFSETTO:+0100
TZNAME:CET
DTSTART:20081026T010000
END:STANDARD
BEGIN:DAYLIGHT
TZOFFSETFROM:+0100
TZOFFSETTO:+0200
TZNAME:CEST
DTSTART:20090329T010000
END:DAYLIGHT
BEGIN:STANDARD
TZOFFSETFROM:+0200
TZOFFSETTO:+0100
TZNAME:CET
DTSTART:20091025T010000
END:STANDARD
BEGIN:DAYLIGHT
TZOFFSETFROM:+0100
TZOFFSETTO:+0200
TZNAME:CEST
DTSTART:20100328T010000
END:DAYLIGHT
BEGIN:STANDARD
TZOFFSETFROM:+0200
TZOFFSETTO:+0100
TZNAME:CET
DTSTART:20101031T010000
END:STANDARD
BEGIN:DAYLIGHT
TZOFFSETFROM:+0100
TZOFFSETTO:+0200
TZNAME:CEST
DTSTART:20110327T010000
END:DAYLIGHT
BEGIN:STANDARD
TZOFFSETFROM:+0200
TZOFFSETTO:+0100
TZNAME:CET
DTSTART:20111030T010000
END:STANDARD
END:VTIMEZONE
BEGIN:VEVENT
DTSTART;VALUE=DATE:20091201
DTEND;VALUE=DATE:20100202
DTSTAMP:20260424T072809
CREATED:20200510T181009Z
LAST-MODIFIED:20200609T205709Z
UID:1195-1259632800-1264989599@stormmuseum.de
SUMMARY:Ausstellung
DESCRIPTION:Kunstraum Thüringen im 20. Jahrhundert\nBilder und Bücher II (mit Jochen Winter\, Mühlhausen).\n(Ausstellung bis Ende Januar)
URL:https://stormmuseum.de/termin/ausstellung-4/
LOCATION:Literaturmuseum „Theodor Storm“\, Am Berge 2\, Heilbad Heiligenstadt\, Thüringen\, 37308\, Deutschland
CATEGORIES:Ausstellungseröffnung,Jahr 2009
END:VEVENT
BEGIN:VEVENT
DTSTART;TZID=Europe/Berlin:20100106T193000
DTEND;TZID=Europe/Berlin:20100106T193000
DTSTAMP:20260424T072809
CREATED:20200609T193623Z
LAST-MODIFIED:20200609T205510Z
UID:2084-1262806200-1262806200@stormmuseum.de
SUMMARY:Traditionelles Hammelessen
DESCRIPTION:“Haus des Handwerks” \nTheodor-Storm-Verein Heilbad Heiligenstadt und Geschichtsverein Heilbad Heiligenstadt
URL:https://stormmuseum.de/termin/traditionelles-hammelessen/
LOCATION:Literaturmuseum „Theodor Storm“\, Am Berge 2\, Heilbad Heiligenstadt\, Thüringen\, 37308\, Deutschland
CATEGORIES:Ausflug,Jahr 2010
END:VEVENT
BEGIN:VEVENT
DTSTART;TZID=Europe/Berlin:20100119T160000
DTEND;TZID=Europe/Berlin:20100119T160000
DTSTAMP:20260424T072809
CREATED:20200609T194943Z
LAST-MODIFIED:20200610T143239Z
UID:2104-1263916800-1263916800@stormmuseum.de
SUMMARY:Zum Tee bei Storm
DESCRIPTION:In gemütlicher nachmittäglicher Runde wird im Literaturmuseum vorgelesen und Tee getrunken – wie einst bei Storms in Husum und Heiligenstadt.\n\nLesung aus dem Essay von Thomas Mann: “Theodor Storm” (1930)
URL:https://stormmuseum.de/termin/zum-tee-bei-storm-3/
LOCATION:Literaturmuseum „Theodor Storm“\, Am Berge 2\, Heilbad Heiligenstadt\, Thüringen\, 37308\, Deutschland
CATEGORIES:Jahr 2010,Lesung,Zum Tee bei Theodor Storm
END:VEVENT
BEGIN:VEVENT
DTSTART;VALUE=DATE:20100125
DTEND;VALUE=DATE:20100127
DTSTAMP:20260424T072809
CREATED:20200609T195102Z
LAST-MODIFIED:20200609T205419Z
UID:2107-1264384800-1264471199@stormmuseum.de
SUMMARY:20. Jahrestag Städtepartnerschaft Husum - Heiligenstadt
DESCRIPTION:Führung und Lesung im Literaturmuseum
URL:https://stormmuseum.de/termin/20-jahrestag-staedtepartnerschaft-husum-heiligenstadt/
LOCATION:Literaturmuseum „Theodor Storm“\, Am Berge 2\, Heilbad Heiligenstadt\, Thüringen\, 37308\, Deutschland
CATEGORIES:Führung,Jahr 2010,Lesung
END:VEVENT
END:VCALENDAR