BEGIN:VCALENDAR
VERSION:2.0
PRODID:-//Literaturmuseum Theodor Storm - ECPv6.15.20//NONSGML v1.0//EN
CALSCALE:GREGORIAN
METHOD:PUBLISH
X-WR-CALNAME:Literaturmuseum Theodor Storm
X-ORIGINAL-URL:https://stormmuseum.de
X-WR-CALDESC:Veranstaltungen für Literaturmuseum Theodor Storm
REFRESH-INTERVAL;VALUE=DURATION:PT1H
X-Robots-Tag:noindex
X-PUBLISHED-TTL:PT1H
BEGIN:VTIMEZONE
TZID:Europe/Berlin
BEGIN:DAYLIGHT
TZOFFSETFROM:+0100
TZOFFSETTO:+0200
TZNAME:CEST
DTSTART:20080330T010000
END:DAYLIGHT
BEGIN:STANDARD
TZOFFSETFROM:+0200
TZOFFSETTO:+0100
TZNAME:CET
DTSTART:20081026T010000
END:STANDARD
BEGIN:DAYLIGHT
TZOFFSETFROM:+0100
TZOFFSETTO:+0200
TZNAME:CEST
DTSTART:20090329T010000
END:DAYLIGHT
BEGIN:STANDARD
TZOFFSETFROM:+0200
TZOFFSETTO:+0100
TZNAME:CET
DTSTART:20091025T010000
END:STANDARD
BEGIN:DAYLIGHT
TZOFFSETFROM:+0100
TZOFFSETTO:+0200
TZNAME:CEST
DTSTART:20100328T010000
END:DAYLIGHT
BEGIN:STANDARD
TZOFFSETFROM:+0200
TZOFFSETTO:+0100
TZNAME:CET
DTSTART:20101031T010000
END:STANDARD
END:VTIMEZONE
BEGIN:VEVENT
DTSTART;TZID=Europe/Berlin:20091118T193000
DTEND;TZID=Europe/Berlin:20091118T193000
DTSTAMP:20260424T100637
CREATED:20200510T180804Z
LAST-MODIFIED:20200609T205932Z
UID:1189-1258572600-1258572600@stormmuseum.de
SUMMARY:Märchen-Lesung und Harfen-Lieder
DESCRIPTION:Die neue Melusine.\nUlrike Richter (Leipzig) präsentiert unter dem Motto „Die neue Melusine“ eine Märchen-Lesung und Harfen-Lieder zum Papiertheater nach Johann Wolfgang Goethe mit Liedern und Scherenschnittkunst der Goethezeit.
URL:https://stormmuseum.de/termin/maerchen-lesung-und-harfen-lieder/
LOCATION:Literaturmuseum „Theodor Storm“\, Am Berge 2\, Heilbad Heiligenstadt\, Thüringen\, 37308\, Deutschland
CATEGORIES:Jahr 2009,Konzert,Lesung
END:VEVENT
BEGIN:VEVENT
DTSTART;TZID=Europe/Berlin:20091124T160000
DTEND;TZID=Europe/Berlin:20091124T160000
DTSTAMP:20260424T100637
CREATED:20200510T180917Z
LAST-MODIFIED:20200610T144929Z
UID:1192-1259078400-1259078400@stormmuseum.de
SUMMARY:Zum Tee bei Theodor Storm
DESCRIPTION:In gemütlicher nachmittäglicher Runde wird im Literaturmuseum vorgelesen und Tee getrunken – wie einst bei Storms in Husum und Heiligenstadt.\nLesung: Gedichte Theodor Storms\, entstanden in den Heiligenstädter Jahren.
URL:https://stormmuseum.de/termin/um-16-00-uhr-zum-tee-bei-theodor-storm-3/
LOCATION:Literaturmuseum „Theodor Storm“\, Am Berge 2\, Heilbad Heiligenstadt\, Thüringen\, 37308\, Deutschland
CATEGORIES:Jahr 2009,Lesung,Zum Tee bei Theodor Storm
END:VEVENT
END:VCALENDAR